BEGIN:VCALENDAR
VERSION:2.0
PRODID:-//ChamberMaster//Event Calendar 2.0//EN
METHOD:PUBLISH
X-PUBLISHED-TTL:P3D
REFRESH-INTERVAL:P3D
CALSCALE:GREGORIAN
BEGIN:VEVENT
DTSTART:20211104T230000Z
DTEND:20211105T000000Z
X-MICROSOFT-CDO-ALLDAYEVENT:FALSE
SUMMARY:International School of Boston: Secondary School Virtual Open House (Grades 6-12)
DESCRIPTION:Join us for our Virtual Open Houses for prospective families who would like to learn more about ISB's curriculum and learning environment\, and discover our new Spanish-language program.\n\n\n\nYou will meet several members of our administration\, faculty\, and staff. You will also have the opportunity to hear stories and experiences from current parents\, and ask questions.\n\n\n\nRegister here.\n\n\n\nInternational School of Boston\n\nPreschool - Grade 12\n\n45 Matignon Road | Cambridge\, MA | admissions@isbos.org
X-ALT-DESC;FMTTYPE=text/html:Join us for our&nbsp\;<strong>Virtual Open Houses</strong>&nbsp\;for prospective families who would like to learn more about ISB&rsquo\;s curriculum&nbsp\;and learning environment\, and discover our&nbsp\;<strong>new Spanish-language program</strong>.<br />\n<br />\nYou will meet several members of our administration\, faculty\, and staff. You will also have the opportunity to hear stories and experiences from current parents\, and ask questions.<br />\n<br />\n<a href="https://www.isbos.org/admissions/open-house">Register here</a>.<br />\n<br />\nInternational School of Boston<br />\nPreschool - Grade 12<br />\n45 Matignon Road | Cambridge\, MA |&nbsp\;admissions@isbos.org
LOCATION:Zoom webinar
UID:e.2584.6080
SEQUENCE:3
DTSTAMP:20260422T230520Z
URL:https://business.cambridgechamber.org/events/details/international-school-of-boston-secondary-school-virtual-open-house-grades-6-12-11-04-2021-6080
END:VEVENT

END:VCALENDAR
