BEGIN:VCALENDAR
VERSION:2.0
PRODID:-//ChamberMaster//Event Calendar 2.0//EN
METHOD:PUBLISH
X-PUBLISHED-TTL:P3D
REFRESH-INTERVAL:P3D
CALSCALE:GREGORIAN
BEGIN:VEVENT
DTSTART:20200125T150000Z
DTEND:20200125T180000Z
X-MICROSOFT-CDO-ALLDAYEVENT:FALSE
SUMMARY:International School of Boston - Preschool & Kindergarten Open House
DESCRIPTION:Join us for our Preschool and Kindergarten Open House on Saturday\, January 25th! Come with your children\, visit the classes and meet with the teachers. Register here.\n\n\n\nThe International School of Boston (ISB) is an independent\, non-profit\, PK (starting at age 2.8) - Grade 12 French-English bilingual and international school located in Cambridge\, Massachusetts\, in one of the most vibrant metropolitan areas in the United States. As a world-class\, accredited academic institution\, ISB places the development of the bilingual brain at the heart of its mission. ISB students graduate with an American high school diploma and choose between two internationally renowned diplomas\, the French or the International Baccalaureate\, giving them the opportunity to thrive at leading universities in the United States\, France\, and around the world. Offering a rich experience with rigorous programs\, ISB prepares its students for a lifetime of learning and service. Visit www.isbos.org.
X-ALT-DESC;FMTTYPE=text/html:<p><span style="font-size:14px"><span style="font-family:arial\,helvetica\,sans-serif">Join us for our Preschool and Kindergarten Open House on Saturday\, January 25th! Come with your children\, visit the classes and meet with the teachers. <a href="https://www.isbos.org/admissions/open-house">Register here</a>.</span></span><br />\n<br />\n<span style="font-family:arial\,helvetica\,sans-serif\; font-size:14px">The International School of Boston (ISB) is an independent\, non-profit\, PK (starting at age 2.8) - Grade 12 French-English bilingual and international school located in Cambridge\, Massachusetts\, in one of the most vibrant metropolitan areas in the United States. As a world-class\, accredited academic institution\, ISB places the development of the bilingual brain at the heart of its mission. ISB students graduate with an American high school diploma and choose between two internationally renowned diplomas\, the French or the International Baccalaureate\, giving them the opportunity to thrive at leading universities in the United States\, France\, and around the world. Offering a rich experience with rigorous programs\, ISB prepares its students for a lifetime of learning and service. Visit&nbsp\;</span><span style="font-size:14px"><a href="http://www.isbos.org">www.isbos.org</a><span style="font-family:arial\,helvetica\,sans-serif">.</span></span></p>\n
LOCATION:International School of Boston 45 Matignon Road Cambridge\, MA 02140 617-499-1459
UID:e.2584.4629
SEQUENCE:3
DTSTAMP:20260424T065240Z
URL:https://business.cambridgechamber.org/events/details/international-school-of-boston-preschool-kindergarten-open-house-01-25-2020-4629
END:VEVENT

END:VCALENDAR
