BEGIN:VCALENDAR
VERSION:2.0
PRODID:-//ChamberMaster//Event Calendar 2.0//EN
METHOD:PUBLISH
X-PUBLISHED-TTL:P3D
REFRESH-INTERVAL:P3D
CALSCALE:GREGORIAN
BEGIN:VEVENT
DTSTART:20190406T230000Z
DTEND:20190407T035500Z
X-MICROSOFT-CDO-ALLDAYEVENT:FALSE
SUMMARY:International School of Boston Gala 2019
DESCRIPTION:The International School of Boston Gala 2019 will take place on Saturday\, April 6th at the MIT Samberg Center. Buy your tickets: www.isbgala.org.\n\n\n\nThe ISB Gala is an evening of glamour\, cocktails\, dinner\, dancing\, live auctions\, and raffles. It is above all a celebration of international friendships\, bilingualism\, and educational excellence.\n\n\n\nThe International School of Boston (ISB) is a private\, non-profit\, Preschool (starting at age 2.9) - Grade 12 dual language school. With a mix of local and international student body and faculty\, ISB is one of the oldest\, most respected bilingual schools in the United States. ISB students learn in French and English\, develop critical thinking skills\, and thrive in a multicultural environment.
X-ALT-DESC;FMTTYPE=text/html:<p><span style="font-size:20px\;"><span style="font-family:verdana">The <strong>International School of Boston Gala 2019</strong> will take place on Saturday\, April 6th at the MIT Samberg Center. Buy your tickets: <a href="http://www.isbgala.org">www.isbgala.org</a>.<br />\n<br />\nThe ISB Gala is an evening of glamour\, cocktails\, dinner\, dancing\, live auctions\, and raffles. It is above all a celebration of international friendships\, bilingualism\, and educational excellence.<br />\n<br />\nThe International School of Boston (ISB) is a private\, non-profit\, Preschool (starting at age 2.9) - Grade 12 dual language school. With a mix of local and international student body and faculty\, ISB is one of the oldest\, most respected bilingual schools in the United States. ISB students learn in French and English\, develop critical thinking skills\, and thrive in a multicultural environment. </span></span></p>\n
LOCATION:Samberg Center at MIT 50 Memorial Drive Cambridge\, MA 02142
UID:e.2584.3798
SEQUENCE:3
DTSTAMP:20260424T214605Z
URL:https://business.cambridgechamber.org/events/details/international-school-of-boston-gala-2019-3798
END:VEVENT

END:VCALENDAR
