BEGIN:VCALENDAR
VERSION:2.0
PRODID:-//ChamberMaster//Event Calendar 2.0//EN
METHOD:PUBLISH
X-PUBLISHED-TTL:P3D
REFRESH-INTERVAL:P3D
CALSCALE:GREGORIAN
BEGIN:VEVENT
DTSTART:20201205T170000Z
DTEND:20201205T180000Z
X-MICROSOFT-CDO-ALLDAYEVENT:FALSE
SUMMARY:International School of Boston - All About the International Baccalaureate: 3 Schools\, 1 Info Session
DESCRIPTION:Join the International School of Boston\, the George School and the Newman School on Saturday\, December 5th at noon (click on the date to register) for a virtual information session about the International Baccalaureate (IB) program. \n\nAdmissions Directors\, IB Coordinators\, Parents\, Students\, and Alumni will highlight the benefits of studying in the IB.\n\n\n	\n	The George School\, a Pennsylvania boarding school with Quaker roots\n	\n	\n	The Newman School\, an independent day school in the heart of Boston\n	\n	\n	ISB\, a French/English bilingual\, multinational day school in Cambridge
X-ALT-DESC;FMTTYPE=text/html:<p><span style="font-family:arial\; font-size:11pt">Join the International School of Boston\, the George School and the Newman School on </span><a href="https://www.isbos.org/admissions/open-house" style="text-decoration-line: none\;"><span style="font-family:arial\; font-size:11pt">Saturday\, December 5th at noon</span></a><span style="font-family:arial\; font-size:11pt"> (click on the date to register) for a virtual information session about the </span><strong>International Baccalaureate (IB) </strong><span style="font-family:arial\; font-size:11pt">program.&nbsp\;</span></p>\n\n<p><span style="font-family:arial\; font-size:11pt">Admissions Directors\, IB Coordinators\, Parents\, Students\, and Alumni will highlight the benefits of studying in the IB.</span></p>\n\n<ul>\n	<li>\n	<p><span style="font-size:11pt">The George School\, a Pennsylvania boarding school with Quaker roots</span></p>\n	</li>\n	<li>\n	<p><span style="font-size:11pt">The Newman School\, an independent day school in the heart of Boston</span></p>\n	</li>\n	<li>\n	<p><span style="font-size:11pt">ISB\, a French/English bilingual\, multinational day school in Cambridge</span></p>\n	</li>\n</ul>\n
LOCATION:Zoom
UID:e.2584.5892
SEQUENCE:3
DTSTAMP:20260423T131306Z
URL:https://business.cambridgechamber.org/events/details/international-school-of-boston-all-about-the-international-baccalaureate-3-schools-1-info-session-5892
END:VEVENT

END:VCALENDAR
