BEGIN:VCALENDAR
VERSION:2.0
PRODID:-//ChamberMaster//Event Calendar 2.0//EN
METHOD:PUBLISH
X-PUBLISHED-TTL:P3D
REFRESH-INTERVAL:P3D
CALSCALE:GREGORIAN
BEGIN:VEVENT
DTSTART:20220409T230000Z
DTEND:20220410T020000Z
X-MICROSOFT-CDO-ALLDAYEVENT:FALSE
SUMMARY:International School of Boston 60 Gala
DESCRIPTION:Tickets to the ISB 60 Gala\, celebrating 60 years of ISB are on sale now! This 1962 inspired spring soir e will feature a champagne cocktail\, plenty of tasty bites\, and a terrific lineup of auction items. In between sips\, step out onto the terrace to take in the view or onto the dance floor for a little Mashed Potato or the Twist.\n\n\n\nGet your tickets today!
X-ALT-DESC;FMTTYPE=text/html:<span style="color:rgb(5\, 5\, 5)\; font-family:segoe ui historic\,segoe ui\,helvetica\,arial\,sans-serif\; font-size:15px">Tickets to the ISB 60 Gala\, celebrating 60 years of ISB are on sale now! This 1962 inspired spring soir&eacute\;e will feature a champagne cocktail\, plenty of tasty bites\, and a terrific lineup of auction items. In between sips\, step out onto the terrace to take in the view or onto the dance floor for a little Mashed Potato or the Twist.<br />\n<br />\n<a href="https://www.isbos.org/supportisb/gala">Get your tickets today</a>!&nbsp\;</span>
LOCATION:Samberg Conference Center - MIT 50 Memorial Drive Cambridge\, MA
UID:e.2584.6277
SEQUENCE:3
DTSTAMP:20260419T121352Z
URL:https://business.cambridgechamber.org/events/details/international-school-of-boston-60-gala-6277
END:VEVENT

END:VCALENDAR
