BEGIN:VCALENDAR
VERSION:2.0
PRODID:-//ChamberMaster//Event Calendar 2.0//EN
METHOD:PUBLISH
X-PUBLISHED-TTL:P3D
REFRESH-INTERVAL:P3D
CALSCALE:GREGORIAN
BEGIN:VEVENT
DTSTART:20191022T220000Z
DTEND:20191023T000000Z
X-MICROSOFT-CDO-ALLDAYEVENT:FALSE
SUMMARY:Intermediate WordPress
DESCRIPTION:Rona Abrahams\, rabrahams@cambridgema.gov\, 617-349-4637\n\nPresenter: Patricia Egessa. Free to Cambridge residents and business owners\, $10 for non-Cambridge participants\n\n \nWordPress is one of the world's most popular web design tools\; it's free\, easy to use\, and it creates professional looking websites. In this advanced class we will cover customization of WordPress websites with a focus on assisting participants with individual WordPress challenges. *Prerequisite: WordPress for Beginners or equivalent
X-ALT-DESC;FMTTYPE=text/html:<p style="margin: 0px 0px 1em\; padding: 0px\; border: 0px\; line-height: 1.4\; font-family: myriad-pro\, Arial\, Helvetica\, sans-serif\; font-size: 12px\;">Rona Abrahams\, rabrahams@cambridgema.gov\, 617-349-4637</p>\n\n<div style="margin: 0px\; padding: 0px\; border: 0px\; box-sizing: border-box\; font-family: myriad-pro\, Arial\, Helvetica\, sans-serif\; font-size: 12px\;">Presenter: Patricia Egessa.<strong>&nbsp\;Free to Cambridge residents and business owners\, $10 for non-Cambridge participants</strong></div>\n\n<div style="margin: 0px\; padding: 0px\; border: 0px\; box-sizing: border-box\; font-family: myriad-pro\, Arial\, Helvetica\, sans-serif\; font-size: 12px\;">&nbsp\;</div>\n<span style="font-family: myriad-pro\, Arial\, Helvetica\, sans-serif\; font-size: 12px\;">WordPress is one of the world&rsquo\;s most popular web design tools\; it&rsquo\;s free\, easy to use\, and it creates professional looking websites. In this advanced class we will cover customization of WordPress websites with a focus on assisting participants with individual WordPress challenges. *</span><em style="font-family: myriad-pro\, Arial\, Helvetica\, sans-serif\; font-size: 1.165em\; font-weight: lighter\;">Prerequisite: WordPress for Beginners or equivalent</em>
LOCATION:CCTV 438 Mass Ave\, Cambridge
UID:e.2584.4632
SEQUENCE:3
DTSTAMP:20260424T111940Z
URL:https://business.cambridgechamber.org/events/details/intermediate-wordpress-4632
END:VEVENT

END:VCALENDAR
