BEGIN:VCALENDAR
VERSION:2.0
PRODID:-//ChamberMaster//Event Calendar 2.0//EN
METHOD:PUBLISH
X-PUBLISHED-TTL:P3D
REFRESH-INTERVAL:P3D
CALSCALE:GREGORIAN
BEGIN:VEVENT
DTSTART:20200122T230000Z
DTEND:20200123T010000Z
X-MICROSOFT-CDO-ALLDAYEVENT:FALSE
SUMMARY:Instagram Stories
DESCRIPTION:Get your instagram account to work for your business! As technology rapidly changes\, so does the way businesses promote and market themselves. In this workshop\, you will learn about how to stand out and create content in order to grab your followers' attention.
X-ALT-DESC;FMTTYPE=text/html:Get your instagram account to work for your business! As technology rapidly changes\, so does the way businesses promote and market themselves. In this workshop\, you will learn about how to stand out and create content in order to grab your followers&#39\; attention.&nbsp\;
LOCATION:CCTV 438 Massachusetts Ave
UID:e.2584.4684
SEQUENCE:3
DTSTAMP:20260424T064631Z
URL:https://business.cambridgechamber.org/events/details/instagram-stories-4684
END:VEVENT

END:VCALENDAR
