BEGIN:VCALENDAR
VERSION:2.0
PRODID:-//ChamberMaster//Event Calendar 2.0//EN
METHOD:PUBLISH
X-PUBLISHED-TTL:P3D
REFRESH-INTERVAL:P3D
CALSCALE:GREGORIAN
BEGIN:VEVENT
DTSTART:20210119T200000Z
DTEND:20210119T210000Z
X-MICROSOFT-CDO-ALLDAYEVENT:FALSE
SUMMARY:Immigration Updates for Cambridge Businesses from PampaninFoster\, LLC
DESCRIPTION:For companies that sponsor foreign employees\, 2020 saw many big changes in the field of employment-based immigration.  Some were good\, most were not\, and others short-lived.  As we now excitedly put 2020 behind us and enter 2021\, let's look at these changes and learn how they will impact corporate immigration going forward.  Attorneys Shaun Foster and Silvia Riberti-Young of PampaninFoster\, LLC in Cambridge will give you all the information you need to know along these lines and better prepare you to manage immigration on the corporate/HR side in 2021.  Topics covered will include 2020 and potentially 2021 changes to the H-1B CAP process\, onerous and hotly contested new rule around "public charge"\, and what came of "prevailing wages" in H-1B and Green Card cases as the 2020 year drew to a close.  Webinar sponsored and hosted by the Cambridge Chamber of Commerce will be delivered on Tuesday\, January 19th @ 3PM EST.  Please join us then for what will be an exciting\, highly-relevant and timely program for Cambridge businesses to hear.
X-ALT-DESC;FMTTYPE=text/html:<p><span style="font-size:20px\;"><span style="font-family:arial\;">For companies that sponsor foreign employees\, 2020 saw many big changes in the field of employment-based immigration.&nbsp\; Some were good\, most were not\, and others short-lived.&nbsp\; As we now excitedly put 2020 behind us and enter 2021\, let&#39\;s look at these changes and learn how they will impact corporate immigration going forward.&nbsp\; Attorneys Shaun Foster and Silvia Riberti-Young of PampaninFoster\, LLC in Cambridge will give you all the information you need to know along these lines and better prepare you to manage immigration on the corporate/HR side in 2021.&nbsp\; Topics covered will include 2020 and potentially 2021 changes to the H-1B CAP process\, onerous and hotly contested new rule around &quot\;public charge&quot\;\, and what came of &quot\;prevailing wages&quot\; in H-1B and Green Card cases as the 2020 year drew to a close.&nbsp\; Webinar sponsored and hosted by the Cambridge Chamber of Commerce will be delivered on Tuesday\, January 19th&nbsp\;@ 3PM EST.&nbsp\; Please join us then for what will be an exciting\, highly-relevant and timely program for Cambridge businesses to&nbsp\;hear.</span></span></p>\n
LOCATION:
UID:e.2584.5918
SEQUENCE:3
DTSTAMP:20260423T125126Z
URL:https://business.cambridgechamber.org/events/details/immigration-updates-for-cambridge-businesses-from-pampaninfoster-llc-5918
END:VEVENT

END:VCALENDAR
