BEGIN:VCALENDAR
VERSION:2.0
PRODID:-//ChamberMaster//Event Calendar 2.0//EN
METHOD:PUBLISH
X-PUBLISHED-TTL:P3D
REFRESH-INTERVAL:P3D
CALSCALE:GREGORIAN
BEGIN:VEVENT
DTSTART:20191219T143000Z
DTEND:20191220T010000Z
X-MICROSOFT-CDO-ALLDAYEVENT:FALSE
SUMMARY:Cambridge Camping Holiday Gift Wrap Event with Henry Bears Park
DESCRIPTION:The Cambridge Camping team will be at Henry Bear's Park in the Porter Square Shopping Center wrapping any gifts purchased in store on 12/19! Any and all donations go toward sending a child to camp!\n\n\n\nHenry Bear's Park will match the total number of donations made throughout the course of the day in the form of a gift card to their store\, which will be used during camp! \n\n\n\nThere is no need to pre-register or RSVP\, you can stop by when it's most convenient for you!
X-ALT-DESC;FMTTYPE=text/html:The Cambridge Camping team will be at Henry Bear&#39\;s Park in the Porter Square Shopping Center wrapping any gifts purchased in store on 12/19! Any and all donations go toward sending a child to camp!<br />\n<br />\nHenry Bear&#39\;s Park will match the total number of donations made throughout the course of the day in the form of a gift card to their store\, which will be used during camp!&nbsp\;<br />\n<br />\nThere is no need to pre-register or RSVP\, you can stop by when it&#39\;s most convenient for you!&nbsp\;
LOCATION:Henry Bear's Park- Porter Square Shopping Center 17 White Street\, Cambridge MA\, 02140
UID:e.2584.4657
SEQUENCE:3
DTSTAMP:20260424T083334Z
URL:https://business.cambridgechamber.org/events/details/holiday-gift-wrap-at-henry-bears-park-4657
END:VEVENT

END:VCALENDAR
