BEGIN:VCALENDAR
VERSION:2.0
PRODID:-//ChamberMaster//Event Calendar 2.0//EN
METHOD:PUBLISH
X-PUBLISHED-TTL:P3D
REFRESH-INTERVAL:P3D
CALSCALE:GREGORIAN
BEGIN:VEVENT
DTSTART:20191212T213000Z
DTEND:20191212T223000Z
X-MICROSOFT-CDO-ALLDAYEVENT:FALSE
SUMMARY:Holiday Carols at CambridgeSide
DESCRIPTION:Holiday Carols at CambridgeSide \n\nThursday\, December 12\, 2019 in Food Court\n\nJoin us for caroling fun as CambridgeSide presents the joyful holiday sounds of the Cambridge Peabody School Early Bird Singers. The Early Bird Singers will perform on Thursday\, December 12\, 2019 at 4:30 p.m. in the Food Court.
X-ALT-DESC;FMTTYPE=text/html:<strong><u><span style="font-family:arial\,sans-serif\;"><span style="font-size:11.0pt\;">Holiday Carols at CambridgeSide </span></span></u></strong><br />\n<strong><span style="font-family:arial\,sans-serif\;"><span style="font-size:11.0pt\;">Thursday\, December 12\, 2019 in Food Court</span></span></strong><br />\n<span style="font-family:arial\,sans-serif\;"><span style="font-size:11.0pt\;">Join us for caroling fun as CambridgeSide presents the joyful holiday sounds of the Cambridge Peabody School Early Bird Singers. The Early Bird Singers will perform on Thursday\, December 12\, 2019 at 4:30 p.m. in the Food Court.</span></span>
LOCATION:
UID:e.2584.4664
SEQUENCE:3
DTSTAMP:20260424T083518Z
URL:https://business.cambridgechamber.org/events/details/holiday-carols-at-cambridgeside-4664
END:VEVENT

END:VCALENDAR
