BEGIN:VCALENDAR
VERSION:2.0
PRODID:-//ChamberMaster//Event Calendar 2.0//EN
METHOD:PUBLISH
X-PUBLISHED-TTL:P3D
REFRESH-INTERVAL:P3D
CALSCALE:GREGORIAN
BEGIN:VEVENT
DTSTART:20200401T213000Z
DTEND:20200402T003000Z
X-MICROSOFT-CDO-ALLDAYEVENT:FALSE
SUMMARY:Hiring for Food Businesses Registration
DESCRIPTION:Community Development Department Food Business Workshop Series\n\n\n\n\nOffers attendees insights into good hiring practices that can best position their business for growth. Attendees will learn and discuss how to create healthy cultures that attract great people\, how to define their vision as it relates to the character and competitiveness of your team\, how to screen and interview potential employees\, and how to manage onboarding and team development. Registration is required for workshop participation\, and class size is limited. Priority will be given to Cambridge residents and businesses\, participants in the Cambridge Food Truck Program\, and women and minority-owned food businesses. All workshops are free to participants.
X-ALT-DESC;FMTTYPE=text/html:<div class="page-title-container page-title-container-v3 clearfix" style="margin: 0px\; padding: 0px\; border: 0px\; font-variant-numeric: inherit\; font-variant-east-asian: inherit\; font-stretch: inherit\; font-size: 16px\; line-height: inherit\; font-family: Arial\, sans-serif\; background-color: rgb(255\, 255\, 255)\;">\n<div class="notranslate" style="margin: 0px\; padding: 0px\; border: 0px\; font: inherit\;">\n<h2 class="page-title-wrapper clearfix" style="margin: 0px\; padding: 0px 0px 12px\; border: 0px\; font-variant: inherit\; font-weight: 400\; font-stretch: inherit\; font-size: 24px\; line-height: 1.25\; font-family: National2\; float: left\; max-width: 100%\; overflow-wrap: break-word\; color: rgb(0\, 191\, 111)\;"><span class="page-title user-generated" style="margin: 0px\; padding: 0px\; border: 0px\; font: inherit\;">Community Development Department Food Business Workshop Series</span></h2>\n</div>\n</div>\n\n<div aria-level="3" class="h3 page-subtitle  user-generated notranslate" role="heading" style="margin: 0px\; padding: 0px 0px 15px\; border: 0px\; font-variant-numeric: inherit\; font-variant-east-asian: inherit\; font-stretch: inherit\; font-size: 20px\; line-height: 1.25\; font-family: National2\; overflow-wrap: break-word\; color: rgb(51\, 62\, 72)\; background-color: rgb(255\, 255\, 255)\;">\n<div style="margin: 0px\; padding: 0px\; border: 0px\; font: inherit\;">Offers attendees insights into good hiring practices that can best position their business for growth. Attendees will learn and discuss how to create healthy cultures that attract great people\, how to define their vision as it relates to the character and competitiveness of your team\, how to screen and interview potential employees\, and how to manage onboarding and team development. Registration is required for workshop participation\, and class size is limited. Priority will be given to Cambridge residents and businesses\, participants in the Cambridge Food Truck Program\, and women and minority-owned food businesses. All workshops are free to participants.</div>\n</div>\n
LOCATION:
UID:e.2584.5338
SEQUENCE:3
DTSTAMP:20260424T014810Z
URL:https://business.cambridgechamber.org/events/details/hiring-for-food-businesses-registration-5338
END:VEVENT

END:VCALENDAR
