BEGIN:VCALENDAR
VERSION:2.0
PRODID:-//ChamberMaster//Event Calendar 2.0//EN
METHOD:PUBLISH
X-PUBLISHED-TTL:P3D
REFRESH-INTERVAL:P3D
CALSCALE:GREGORIAN
BEGIN:VEVENT
DTSTART:20191225T170000Z
DTEND:20191226T010000Z
X-MICROSOFT-CDO-ALLDAYEVENT:FALSE
SUMMARY:Henrietta's Table for the Holidays
DESCRIPTION:Looking for a fresh and honest meal to celebrate the holidays? Henrietta's Table is open on Christmas Day with its award-winning buffet from 12-8pm at $95 per person. We will also be open New Year's Eve and New Year's Day. Make your reservation today!
X-ALT-DESC;FMTTYPE=text/html:<span style="font-size:20px\;"><span style="font-family:arial\;">Looking for a fresh and honest meal to celebrate the holidays? Henrietta&rsquo\;s Table is open on Christmas Day with its award-winning buffet from 12-8pm at $95 per person. We will also be open New Year&rsquo\;s Eve and New Year&rsquo\;s Day. Make your reservation today!</span></span>
LOCATION:
UID:e.2584.4670
SEQUENCE:3
DTSTAMP:20260424T094045Z
URL:https://business.cambridgechamber.org/events/details/henrietta-s-table-for-the-holidays-4670
END:VEVENT

END:VCALENDAR
