BEGIN:VCALENDAR
VERSION:2.0
PRODID:-//ChamberMaster//Event Calendar 2.0//EN
METHOD:PUBLISH
X-PUBLISHED-TTL:P3D
REFRESH-INTERVAL:P3D
CALSCALE:GREGORIAN
BEGIN:VEVENT
DTSTART:20191103T230000Z
DTEND:20191104T010000Z
X-MICROSOFT-CDO-ALLDAYEVENT:FALSE
SUMMARY:Henrietta’s Table Farm Dinner with Thompson House Eatery
DESCRIPTION:Come join us for a special supper at Henrietta's Table on Sunday\, November 3 at 6pm. Chef/Owner Jeffrey Fournier from Thompson House Eatery in Jackson\, NH is teaming with Henrietta's Table and Chef Peter Davis for one night only\, featuring seasonal produce from the Thompson House Eatery garden.\n\nTickets are $110 with optional wine pairings for an additional $25.
X-ALT-DESC;FMTTYPE=text/html:<span style="font-size:20px\;"><span style="font-family:arial\;">Come join us for a special supper at Henrietta&#39\;s Table on Sunday\, November 3 at 6pm. Chef/Owner Jeffrey Fournier from Thompson House Eatery in Jackson\, NH is teaming with Henrietta&#39\;s Table and Chef Peter Davis for one night only\, featuring seasonal produce from the Thompson House Eatery garden.<br />\nTickets are $110 with optional wine pairings for an additional $25.</span></span>
LOCATION:Henrietta's Table 1 Bennett Street\, 2nd Floor Cambridge\, MA
UID:e.2584.4645
SEQUENCE:3
DTSTAMP:20260424T112427Z
URL:https://business.cambridgechamber.org/events/details/henrietta-s-table-farm-dinner-with-thompson-house-eatery-4645
END:VEVENT

END:VCALENDAR
