BEGIN:VCALENDAR
VERSION:2.0
PRODID:-//ChamberMaster//Event Calendar 2.0//EN
METHOD:PUBLISH
X-PUBLISHED-TTL:P3D
REFRESH-INTERVAL:P3D
CALSCALE:GREGORIAN
BEGIN:VEVENT
DTSTART:20191027T220000Z
DTEND:20191028T000000Z
X-MICROSOFT-CDO-ALLDAYEVENT:FALSE
SUMMARY:Henrietta’s Table Farm Dinner with Chatham Bars Inn
DESCRIPTION:Come join us for a special supper at Henrietta's Table on Sunday\, October 27 at 6pm. Chef Anthony Cole of Chatham Bars Inn will be joining our own Chef Peter Davis for a meal highlighting fresh ingredients from Chatham Bars Inn Farm and seafood from local Cape Cod fishermen. No need to brave the Cape Cod traffic for this stellar meal!\n\nTickets are $100 with optional wine pairings for an additional $25.
X-ALT-DESC;FMTTYPE=text/html:<span style="font-size:20px\;"><span style="font-family:arial\;">Come join us for a special supper at Henrietta&#39\;s Table on Sunday\, October 27 at 6pm. Chef Anthony Cole of Chatham Bars Inn will be joining our own Chef Peter Davis for a meal highlighting fresh ingredients from Chatham Bars Inn Farm and seafood from local Cape Cod fishermen. No need to brave the Cape Cod traffic for this stellar meal!<br />\nTickets are $100 with optional wine pairings for an additional $25.</span></span>
LOCATION:Henrietta's Table 1 Bennett Street\, 2nd Floor Cambridge\, MA 02138
UID:e.2584.4644
SEQUENCE:3
DTSTAMP:20260424T112434Z
URL:https://business.cambridgechamber.org/events/details/henrietta-s-table-farm-dinner-with-chatham-bars-inn-4644
END:VEVENT

END:VCALENDAR
