BEGIN:VCALENDAR
VERSION:2.0
PRODID:-//ChamberMaster//Event Calendar 2.0//EN
METHOD:PUBLISH
X-PUBLISHED-TTL:P3D
REFRESH-INTERVAL:P3D
CALSCALE:GREGORIAN
BEGIN:VEVENT
DTSTART:20190428T000000Z
DTEND:20190428T020000Z
X-MICROSOFT-CDO-ALLDAYEVENT:FALSE
SUMMARY:Harvard-Radcliffe Orchestra Visitas Concert: Prokofiev\, Strauss\, Ravel\, and Stravinksy
DESCRIPTION:Join the Harvard-Radcliffe Orchestra for a special concert welcoming the class of 2023! Under the direction of Maestro Federico Cortese\, HRO will be presenting Prokofiev's Symphony No. 1\, Op. 25\, Strauss' Dance of the Seven Veils (from Salome)\, Stravinsky's Concerto in D "Basle" for String Orchestra\, and last but not least\, Ravel's La Valse. To get tickets or for more information\, please visit Harvard's Box Office (www.tinyurl.com/HROtickets) or contact HRO at hro@hcs.harvard.edu.
X-ALT-DESC;FMTTYPE=text/html:Join the Harvard-Radcliffe Orchestra for a special concert welcoming the class of 2023! Under the direction of Maestro Federico Cortese\, HRO will be presenting Prokofiev&rsquo\;s Symphony No. 1\, Op. 25\, Strauss&rsquo\; Dance of the Seven Veils (from Salome)\, Stravinsky&rsquo\;s Concerto in D &ldquo\;Basle&rdquo\; for String Orchestra\, and last but not least\, Ravel&rsquo\;s La Valse. To get tickets or for more information\, please visit Harvard&rsquo\;s Box Office (www.tinyurl.com/HROtickets) or contact HRO at hro@hcs.harvard.edu.
LOCATION:Sanders Theatre\, Memorial Hall\, 45 Quincy Street\, Cambridge\, MA 02138\, USA
UID:e.2584.4486
SEQUENCE:3
DTSTAMP:20260424T235241Z
URL:https://business.cambridgechamber.org/events/details/harvard-radcliffe-orchestra-visitas-concert-prokofiev-strauss-ravel-and-stravinksy-4486
END:VEVENT

END:VCALENDAR
