BEGIN:VCALENDAR
VERSION:2.0
PRODID:-//ChamberMaster//Event Calendar 2.0//EN
METHOD:PUBLISH
X-PUBLISHED-TTL:P3D
REFRESH-INTERVAL:P3D
CALSCALE:GREGORIAN
BEGIN:VEVENT
DTSTART:20190610T220000Z
DTEND:20190611T010000Z
X-MICROSOFT-CDO-ALLDAYEVENT:FALSE
SUMMARY:Harry Potter Trivia
DESCRIPTION:Calling all witches\, wizards\, and magical creatures...\n\n\nJoin us as you test your knowledge of the Wizarding World with Harry Potter themed trivia!\n\nMuggles\, keep reading: \n\n\n	\n	Trivia begins at 6:00pm\, but we encourage you to come early for dinner& drinks\n	\n\n\n\n\n	Registration is first come\, first served and CLOSES after the first 35 teams have signed up (teams cannot exceed 6 people)\n	Trivia will be held outside on our patio. In the case of inclement weather\, trivia will move to our sister location Hurricane's at the Gardenby North Station \n\n\n\nPlease note: RSVP does NOT guarantee a team or table. We recommend coming early as we cannot accommodate everyone.
X-ALT-DESC;FMTTYPE=text/html:<h3>Calling all witches\, wizards\, and magical creatures...</h3>\n\n<div>\n<h4>Join us as you test your knowledge of the Wizarding World with Harry Potter themed trivia!</h4>\n\n<p>Muggles\, keep reading:&nbsp\;</p>\n\n<ul>\n	<li>\n	<div>Trivia begins at 6:00pm\, but we encourage you to come early for&nbsp\;<a href="https://www.glasshousecambridge.com/menus/" rel="nofollow noopener noreferrer" style="color: var(--eds-control\,#3659e3)\; text-decoration-line: none\; cursor: pointer\; background-color: transparent\;" target="_blank" title="dinner">dinner</a>&amp\;&nbsp\;<a href="https://www.glasshousecambridge.com/menus/#drinks" rel="nofollow noopener noreferrer" style="color: var(--eds-control\,#3659e3)\; text-decoration-line: none\; cursor: pointer\; background-color: transparent\;" target="_blank" title="drinks">drinks</a></div>\n	</li>\n</ul>\n\n<div>\n<ul>\n	<li>Registration is first come\, first served and CLOSES after the first 35 teams have signed up (teams cannot exceed 6 people)</li>\n	<li>Trivia will be held outside on our patio. In the case of inclement weather\, trivia will move to our sister location&nbsp\;<a href="https://www.hurricanesboston.com/" rel="nofollow noopener noreferrer" style="color: var(--eds-control\,#3659e3)\; text-decoration-line: none\; cursor: pointer\; background-color: transparent\;" target="_blank" title="Hurricane's at the Garden">Hurricane&#39\;s at the Garden</a>by North Station&nbsp\;</li>\n</ul>\n</div>\n\n<p><em>Please note: RSVP does NOT guarantee a team or table. We recommend coming early as we cannot accommodate everyone.</em></p>\n</div>\n
LOCATION:Glass House 450 Kendall St. Cambridge\, MA 02142
UID:e.2584.4569
SEQUENCE:3
DTSTAMP:20260424T182025Z
URL:https://business.cambridgechamber.org/events/details/harry-potter-trivia-4569
END:VEVENT

END:VCALENDAR
