BEGIN:VCALENDAR
VERSION:2.0
PRODID:-//ChamberMaster//Event Calendar 2.0//EN
METHOD:PUBLISH
X-PUBLISHED-TTL:P3D
REFRESH-INTERVAL:P3D
CALSCALE:GREGORIAN
BEGIN:VEVENT
DTSTART:20190620T233000Z
DTEND:20190621T010000Z
X-MICROSOFT-CDO-ALLDAYEVENT:FALSE
SUMMARY:Gunhild Carling - She is back!
DESCRIPTION:Back by popular demand! Gunhild is back after taking the audience by storm at her Regattabar debut last November.\n\n\n\nGunhild Carling is a Swedish jazz musician and multi-instrumentalist. She is famous for playing three trumpets at the same time. Carling became known for her performance at Alls ng p  Skansen on July 20\, 2010. Gunhild plays trombone\, bagpipes\, trumpet\, recorder and harp\, and will often showcase all of her skills in one song\, sometimes casually breaking into a tap dance or singing lyrics. Carling competed as a celebrity dancer in Let's Dance 2014 on TV4\, placing third.\n\n\n\nIn 2013\, she performed with her 'Carling Big Band' at the Royal Palace in Stockholm in the celebration of King Carl XVI Gustaf's Ruby Jubilee. In 2016\, Carling performed at King Carl XVI Gustaf's 70th birthday celebration.\n\n\n\nShe is featured as a singer and multi-instrumentalist in several of Scott Bradlee's Postmodern Jukebox's adaptations of pop songs\, including their version of 'Never Going to Give You Up'\, a 1920s jazz swing version of 'Material Girl'\, a vintage jazz version of Europe's 'The Final Countdown' and a jazz cover of Pharrel Williams' Happy'.
X-ALT-DESC;FMTTYPE=text/html:Back by popular demand! Gunhild is back after taking the audience by storm at her Regattabar debut last November.<br />\n<br />\nGunhild Carling is a Swedish jazz musician and multi-instrumentalist. She is famous for playing three trumpets at the same time. Carling became known for her performance at Alls&aring\;ng p&aring\; Skansen on July 20\, 2010. Gunhild plays trombone\, bagpipes\, trumpet\, recorder and harp\, and will often showcase all of her skills in one song\, sometimes casually breaking into a tap dance or singing lyrics. Carling competed as a celebrity dancer in Let&#39\;s Dance 2014 on TV4\, placing third.<br />\n<br />\nIn 2013\, she performed with her &#39\;Carling Big Band&#39\; at the Royal Palace in Stockholm in the celebration of King Carl XVI Gustaf&#39\;s Ruby Jubilee. In 2016\, Carling performed at King Carl XVI Gustaf&#39\;s 70th birthday celebration.<br />\n<br />\nShe is featured as a singer and multi-instrumentalist in several of Scott Bradlee&#39\;s Postmodern Jukebox&#39\;s adaptations of pop songs\, including their version of &#39\;Never Going to Give You Up&#39\;\, a 1920s jazz swing version of &#39\;Material Girl&#39\;\, a vintage jazz version of Europe&#39\;s &#39\;The Final Countdown&#39\; and a jazz cover of Pharrel Williams&#39\; Happy&#39\;.
LOCATION:The Regattabar at The Charles Hotel
UID:e.2584.4068
SEQUENCE:3
DTSTAMP:20260424T182143Z
URL:https://business.cambridgechamber.org/events/details/gunhild-carling-she-is-back-4068
END:VEVENT

END:VCALENDAR
