BEGIN:VCALENDAR
VERSION:2.0
PRODID:-//ChamberMaster//Event Calendar 2.0//EN
METHOD:PUBLISH
X-PUBLISHED-TTL:P3D
REFRESH-INTERVAL:P3D
CALSCALE:GREGORIAN
BEGIN:VEVENT
DTSTART:20190617T220000Z
DTEND:20190618T010000Z
X-MICROSOFT-CDO-ALLDAYEVENT:FALSE
SUMMARY:Grey's Anatomy Trivia
DESCRIPTION:It's a beautiful day to save lives... or play trivia!\n\nGrey's Anatomy Trivia is coming to Glass House\, push one of epi.\n\nGrab your person and join us on Monday\, June 17th: \n\n\n	Trivia begins at 6:00pm but we encourage you to come early for dinner & drinks\n\n\n\n	Registration is first come\, first served and CLOSES after the first 35 teams have signed up (teams cannot exceed 6 people)\n	Trivia will be held outside on our patio. In the case of inclement weather\, trivia will move to our sister location Hurricane's at the Garden by North Station\n\n\n \n\nPlease note: RSVP does NOT guarantee a team or table. We recommend coming early as we cannot accommodate everyone.
X-ALT-DESC;FMTTYPE=text/html:<h2>It&#39\;s a beautiful day to save lives... or play trivia!</h2>\n\n<h4>Grey&#39\;s Anatomy Trivia is coming to Glass House\, push one of epi.</h4>\n\n<p>Grab your&nbsp\;<em>person&nbsp\;</em>and join us on Monday\, June 17th:&nbsp\;</p>\n\n<ul>\n	<li>Trivia begins at 6:00pm but we encourage you to come early for&nbsp\;<a href="https://www.glasshousecambridge.com/menus/" rel="nofollow noopener noreferrer" style="color: var(--eds-control\,#3659e3)\; text-decoration-line: none\; cursor: pointer\; background-color: transparent\;" target="_blank" title="dinner">dinner</a>&nbsp\;&amp\;&nbsp\;<a href="https://www.glasshousecambridge.com/menus/#drinks" rel="nofollow noopener noreferrer" style="color: var(--eds-control\,#3659e3)\; text-decoration-line: none\; cursor: pointer\; background-color: transparent\;" target="_blank" title="drinks">drinks</a></li>\n</ul>\n\n<ul>\n	<li>Registration is first come\, first served and CLOSES after the first 35 teams have signed up (teams cannot exceed 6 people)</li>\n	<li>Trivia will be held outside on our patio. In the case of inclement weather\, trivia will move to our sister location&nbsp\;<a href="https://www.hurricanesboston.com/" rel="nofollow noopener noreferrer" style="color: var(--eds-control\,#3659e3)\; text-decoration-line: none\; cursor: pointer\; background-color: transparent\;" target="_blank" title="Hurricane's at the Garden">Hurricane&#39\;s at the Garden</a>&nbsp\;by North Station</li>\n</ul>\n\n<p>&nbsp\;</p>\n\n<p><em>Please note: RSVP does NOT guarantee a team or table. We recommend coming early as we cannot accommodate everyone.</em></p>\n
LOCATION:Glass House 450 Kendall Street Cambridge\, MA 02142
UID:e.2584.4570
SEQUENCE:3
DTSTAMP:20260424T182143Z
URL:https://business.cambridgechamber.org/events/details/grey-s-anatomy-trivia-4570
END:VEVENT

END:VCALENDAR
