BEGIN:VCALENDAR
VERSION:2.0
PRODID:-//ChamberMaster//Event Calendar 2.0//EN
METHOD:PUBLISH
X-PUBLISHED-TTL:P3D
REFRESH-INTERVAL:P3D
CALSCALE:GREGORIAN
BEGIN:VEVENT
DTSTART:20200131T160000Z
DTEND:20200201T020000Z
X-MICROSOFT-CDO-ALLDAYEVENT:FALSE
SUMMARY:Grand Opening - Yoki Express
DESCRIPTION:Come celebrate with us as we enjoy the official grand opening of Yoki Express - Porter Square. \n\nwe will be offering Buy ONE Ramen\, Get ONE Poke Bowl or Sushiburrito ALL DAY!!\n\n\n\n \n\nAbout Yoki Express:\n\n"Yoki Express - Love Live Eat Well. That is our motto. We believe you must live a good and healthy life\, but a life without love\, as they say\, is a meaningless existence. At Yoki Express\, we strive to provide our customers with a healthier concept to "fast food"\; our meals are prepared fresh and fast daily\, but do not sacrifice quality. We pride ourselves in providing customers with fresh\, delicious\, and nutritious foods\, free of the chemicals. With a healthier body\, you will be happier in loving and living! So\, how do you live a healthy life? Simple\, you eat well."
X-ALT-DESC;FMTTYPE=text/html:<div style="text-align: center\;"><span style="font-size:36px\;"><u><strong><span style="font-family:arial\;"><span style="color: rgb(29\, 33\, 41)\; white-space: pre-wrap\; background-color: rgb(255\, 255\, 255)\;">Come celebrate with us as we enjoy the official grand opening of Yoki Express - Porter Square. </span><br style="color: rgb(29\, 33\, 41)\; font-family: Helvetica\, Arial\, sans-serif\; font-size: 14px\; white-space: pre-wrap\; background-color: rgb(255\, 255\, 255)\;" />\n<span style="color: rgb(29\, 33\, 41)\; white-space: pre-wrap\; background-color: rgb(255\, 255\, 255)\;">we will be offering Buy ONE Ramen\, Get ONE Poke Bowl or Sushiburrito ALL DAY!!</span></span></strong></u></span><br />\n<br />\n&nbsp\;</div>\n\n<div><span style="font-size:22px\;"><span style="font-family:arial\;"><span style="color: rgb(29\, 33\, 41)\; white-space: pre-wrap\; background-color: rgb(255\, 255\, 255)\;">About Yoki Express:</span></span></span><br />\n<span style="color:black\;"><span style="font-family:arial\,sans-serif\;"><span style="font-size:13.5pt\;">&quot\;Yoki Express - Love&hellip\;Live&hellip\;Eat Well. That is our motto. We believe you must live a good and healthy life\, but a life without love\, as they say\, is a meaningless existence. At Yoki Express\, we strive to provide our customers with a healthier concept to &ldquo\;fast food&rdquo\;\; our meals are prepared fresh and fast daily\, but do not sacrifice quality. We pride ourselves in providing customers with fresh\, delicious\, and nutritious foods\, free of the chemicals. With a healthier body\, you will be happier in loving and living!&nbsp\;So\, how do you live a healthy life? Simple\, you eat well.&quot\;</span></span></span><br />\n&nbsp\;</div>\n\n<div>&nbsp\;</div>\n
LOCATION:1876 Massachusetts Ave Cambridge\, MA 02140
UID:e.2584.4734
SEQUENCE:3
DTSTAMP:20260424T064734Z
URL:https://business.cambridgechamber.org/events/details/grand-opening-yoki-express-4734
END:VEVENT

END:VCALENDAR
