BEGIN:VCALENDAR
VERSION:2.0
PRODID:-//ChamberMaster//Event Calendar 2.0//EN
METHOD:PUBLISH
X-PUBLISHED-TTL:P3D
REFRESH-INTERVAL:P3D
CALSCALE:GREGORIAN
BEGIN:VEVENT
DTSTART:20190507T220000Z
DTEND:20190508T000000Z
X-MICROSOFT-CDO-ALLDAYEVENT:FALSE
SUMMARY:Google Analytics for Small Business
DESCRIPTION:Presenter: Ted DeBettencourt. Free to Cambridge residents and business owners\, $10 for non-Cambridge participants.\n\nLearn the basics of Google Analytics in this two hour workshop. We will discuss how to measure your website's performance and interpret analytics data. You'll leave with a framework for setting and measuring web performance goals for your business. *Prerequisite: You must be the web administrator for a website.
X-ALT-DESC;FMTTYPE=text/html:<p style="margin: 0px 0px 1em\; padding: 0px\; border: 0px\; line-height: 1.4\; font-family: myriad-pro\, Arial\, Helvetica\, sans-serif\; font-size: 12px\;"><span style="font-size:20px\;"><strong>Presenter: Ted DeBettencourt. Free to Cambridge residents and business owners\, $10 for non-Cambridge participants.</strong></span></p>\n\n<p style="margin: 0px 0px 1em\; padding: 0px\; border: 0px\; line-height: 1.4\; font-family: myriad-pro\, Arial\, Helvetica\, sans-serif\; font-size: 12px\;"><span style="font-size:20px\;">Learn the basics of Google Analytics in this two hour workshop. We will discuss how to measure your website&#39\;s performance and interpret analytics data. You&#39\;ll leave with a framework for setting and measuring web performance goals for your business. *Prerequisite: You must be the web administrator for a website.</span></p>\n
LOCATION:CCTV 438 Massachusetts Avenue
UID:e.2584.3826
SEQUENCE:3
DTSTAMP:20260424T214128Z
URL:https://business.cambridgechamber.org/events/details/google-analytics-for-small-business-3826
END:VEVENT

END:VCALENDAR
