BEGIN:VCALENDAR
VERSION:2.0
PRODID:-//ChamberMaster//Event Calendar 2.0//EN
METHOD:PUBLISH
X-PUBLISHED-TTL:P3D
REFRESH-INTERVAL:P3D
CALSCALE:GREGORIAN
BEGIN:VEVENT
DTSTART:20200428T130000Z
DTEND:20200428T150000Z
X-MICROSOFT-CDO-ALLDAYEVENT:FALSE
SUMMARY:Getting Ready for PPP Loan - Payroll Protection Program
DESCRIPTION:The President is expected to sign the bill for Round 2 of the Payroll Protection Program Loans (PPP) today (4/24). Once the program is reopened\, it is anticipated that the government will run shortly run out of funds. Are you ready to submit your PPP loan application?\n\nPLEASE NOTE: THIS FREE WEBINAR IS BEING OFFERED VIA ZOOM.  Please send me an email with your email address so that I can send you a Zoom invite.\n\nStay Safe & Sane\,\n\nIrene Wachsler\, CPA\n\nirene@iw-cpa.com
X-ALT-DESC;FMTTYPE=text/html:The President is expected to sign the bill for Round 2 of the Payroll Protection Program Loans (PPP) today (4/24). Once the program is reopened\, it is anticipated that the government will run shortly run out of funds. Are you ready to submit your PPP loan application?<br />\nPLEASE NOTE: THIS FREE WEBINAR IS BEING OFFERED VIA ZOOM.&nbsp\; Please send me an email with your email address so that I can send you a Zoom invite.<br />\nStay Safe &amp\; Sane\,<br />\nIrene Wachsler\, CPA<br />\nirene@iw-cpa.com
LOCATION:Virtual - Zoom - email irene@iw-cpa.com
UID:e.2584.5383
SEQUENCE:3
DTSTAMP:20260424T033242Z
URL:https://business.cambridgechamber.org/events/details/getting-ready-for-ppp-loan-payroll-protection-program-5383
END:VEVENT

END:VCALENDAR
