BEGIN:VCALENDAR
VERSION:2.0
PRODID:-//ChamberMaster//Event Calendar 2.0//EN
METHOD:PUBLISH
X-PUBLISHED-TTL:P3D
REFRESH-INTERVAL:P3D
CALSCALE:GREGORIAN
BEGIN:VEVENT
DTSTART:20190414T150000Z
DTEND:20190414T190000Z
X-MICROSOFT-CDO-ALLDAYEVENT:FALSE
SUMMARY:Game of Thrones Brunch
DESCRIPTION:The last season is coming...\n\nWe don't get to choose whom we love\, but we do get to choose where we BRUNCH! \n\nJoin us Sunday\, April 14th from 11am-3pm for a Game of Thrones themed brunch to celebrate the premiere of Season 8!\n\nRally the realm\, we'll be serving themed food and drink specials (because we drink... and we know things). Plus\, we'll have a bunch of GoT inspired activities! \n\nThink you can just show up? You know nothing\, Jon Snow. We encourage all guests to make reservations as seating is limited! Give us a call at 617.945.9450 or visit glasshousecambridge.com to make your arrangements.\n\n#BrunchIsComing
X-ALT-DESC;FMTTYPE=text/html:<h2>The last season is coming...</h2>\n\n<p>We don&#39\;t get to choose whom we love\, but we do get to choose where we&nbsp\;<strong>BRUNCH</strong>!&nbsp\;</p>\n\n<p>Join us&nbsp\;<strong>Sunday\, April 14th&nbsp\;</strong>from&nbsp\;<em>11am-3pm</em>&nbsp\;for a Game of Thrones themed brunch to celebrate the premiere of Season 8!</p>\n\n<p>Rally the realm\, we&rsquo\;ll be serving themed food and drink specials (<em>because we drink.</em>..&nbsp\;<em>and we know things).</em>&nbsp\;Plus\, we&#39\;ll have a bunch of GoT inspired activities!&nbsp\;</p>\n\n<p>Think you can just show up?&nbsp\;<em>You know nothing\, Jon Snow.&nbsp\;</em>We encourage all guests to make reservations as seating is limited! Give us a call at 617.945.9450 or visit&nbsp\;<a href="https://www.glasshousecambridge.com/" rel="nofollow noopener noreferrer" style="color: var(--eds-control\,#3659e3)\; text-decoration-line: none\; cursor: pointer\; background-color: transparent\;" target="_blank">glasshousecambridge.com</a>&nbsp\;to make your arrangements.</p>\n\n<p>#BrunchIsComing</p>\n
LOCATION:Glass House 450 Kendall Street Cambridge\, MA 02142
UID:e.2584.3857
SEQUENCE:3
DTSTAMP:20260424T214153Z
URL:https://business.cambridgechamber.org/events/details/game-of-thrones-3857
END:VEVENT

END:VCALENDAR
