BEGIN:VCALENDAR
VERSION:2.0
PRODID:-//ChamberMaster//Event Calendar 2.0//EN
METHOD:PUBLISH
X-PUBLISHED-TTL:P3D
REFRESH-INTERVAL:P3D
CALSCALE:GREGORIAN
BEGIN:VEVENT
DTSTART:20191010T220000Z
DTEND:20191011T000000Z
X-MICROSOFT-CDO-ALLDAYEVENT:FALSE
SUMMARY:Game Night - Title IX Girls Running Club
DESCRIPTION:Join us for a night of friends\, fun\, and board games! Proceeds to benefit Title IX Girls Running Club. Contact gail@titleixgirls.org for more information. \n\n\n\n$30 Admission Includes a flight of cider & delicious mini-bites
X-ALT-DESC;FMTTYPE=text/html:<span style="font-size:22px\;">Join us for a night of friends\, fun\, and board games! Proceeds to benefit Title IX Girls Running Club. Contact gail@titleixgirls.org for more information.&nbsp\;<br />\n<br />\n$30 Admission Includes a flight of cider &amp\; delicious mini-bites</span><br />\n&nbsp\;
LOCATION:Bantam Cider Taproom 40 Merriam Street Somerville\, MA
UID:e.2584.4609
SEQUENCE:3
DTSTAMP:20260424T112603Z
URL:https://business.cambridgechamber.org/events/details/game-night-title-ix-girls-running-club-4609
END:VEVENT

END:VCALENDAR
