BEGIN:VCALENDAR
VERSION:2.0
PRODID:-//ChamberMaster//Event Calendar 2.0//EN
METHOD:PUBLISH
X-PUBLISHED-TTL:P3D
REFRESH-INTERVAL:P3D
CALSCALE:GREGORIAN
BEGIN:VEVENT
DTSTART;VALUE=DATE:20200607
DTEND;VALUE=DATE:20200608
TRANSP:TRANSPARENT
X-MICROSOFT-CDO-ALLDAYEVENT:TRUE
SUMMARY:Freedom Run 5K at CambridgeSide
DESCRIPTION:The Freedom Run is a patriotic 5k race through the heart of East Cambridge & Inman Square on a flat and fast course. The race starts & finishes at CambridgeSide and is immediately followed by a festive roof deck party. Registration includes a short sleeve technical t-shirt\, 5 free parking passes\, VIP perks for teams over 20 and post-race celebration on the roof deck at CambridgeSide featuring music\, food and beverage. Registration is now open at CambridgeSide.com.
X-ALT-DESC;FMTTYPE=text/html:<span style="font-size:20px\;"><span style="font-family:arial\,sans-serif\;">The Freedom Run is a patriotic 5k race through the heart of East Cambridge &amp\; Inman Square on a flat and fast course. The race starts &amp\; finishes at CambridgeSide and is immediately followed by a festive roof deck party. Registration includes a short sleeve technical t-shirt\, 5 free parking passes\, VIP perks for teams over 20 and post-race celebration on the roof deck at CambridgeSide featuring music\, food and beverage. Registration is now open at CambridgeSide.com.</span></span>
LOCATION:
UID:e.2584.5370
SEQUENCE:3
DTSTAMP:20260423T222911Z
URL:https://business.cambridgechamber.org/events/details/freedom-run-5k-at-cambridgeside-5370
END:VEVENT

END:VCALENDAR
