BEGIN:VCALENDAR
VERSION:2.0
PRODID:-//ChamberMaster//Event Calendar 2.0//EN
METHOD:PUBLISH
X-PUBLISHED-TTL:P3D
REFRESH-INTERVAL:P3D
CALSCALE:GREGORIAN
BEGIN:VEVENT
DTSTART:20190606T160000Z
DTEND:20190606T170000Z
X-MICROSOFT-CDO-ALLDAYEVENT:FALSE
SUMMARY:Free webinar "Leading Millennials: Myths and Facts!"
DESCRIPTION:Are you struggling with team engagement? Trying to get away from the top-down style of leading? Weren't trained on how to manage teams? Join Bryan Nadeau\, from Vision to Reality Coaching as he shares insights on applying new leadership skills to become a courageous millennial leader\, or a leader of millennials.\n\n\n\nIn this session\, you will learn:\n\n	Learn how leadership has changed rapidly over the last decades and what it means in 2019.\n	Learn about new leadership traits and how to apply them to become a courageous leader.\n	Understand the specifics of managing millenials or managing as a millenial today.
X-ALT-DESC;FMTTYPE=text/html:<span style="font-size:14px\;"><span style="font-family:arial\;">Are you struggling with team engagement? Trying to get away from the top-down style of leading? Weren&rsquo\;t trained on how to manage teams? Join Bryan Nadeau\, from Vision to Reality Coaching as he shares insights on applying new leadership skills to become a courageous millennial leader\, or a leader of millennials.<br />\n<br />\n<span class="webinar-summary-points" style="box-sizing: border-box\; color: rgb(33\, 37\, 41)\; background-color: rgb(255\, 255\, 255)\;">In this session\, you will learn:</span></span></span>\n<ul class="webinar-summary-ul" style="box-sizing: border-box\; margin-top: 0px\; margin-bottom: 1rem\; padding: 20px 20px 0px\; color: rgb(33\, 37\, 41)\; font-family: &quot\;Open Sans&quot\;\, sans-serif\; font-size: 16px\; background-color: rgb(255\, 255\, 255)\;">\n	<li class="webinar-summary-subpoints" style="box-sizing: border-box\; font-family: ROBOTO-B\;"><span style="font-size:14px\;"><span style="font-family:arial\;">Learn how leadership has changed rapidly over the last decades and what it means in 2019.</span></span></li>\n	<li class="webinar-summary-subpoints" style="box-sizing: border-box\; font-family: ROBOTO-B\;"><span style="font-size:14px\;"><span style="font-family:arial\;">Learn about new leadership traits and how to apply them to become a courageous leader.</span></span></li>\n	<li class="webinar-summary-subpoints" style="box-sizing: border-box\; font-family: ROBOTO-B\;"><span style="font-size:14px\;"><span style="font-family:arial\;">Understand the specifics of managing millenials or managing as a millenial today.</span></span></li>\n</ul>\n
LOCATION:
UID:e.2584.4561
SEQUENCE:3
DTSTAMP:20260424T182406Z
URL:https://business.cambridgechamber.org/events/details/free-webinar-leading-millennials-myths-and-facts-4561
END:VEVENT

END:VCALENDAR
