BEGIN:VCALENDAR
VERSION:2.0
PRODID:-//ChamberMaster//Event Calendar 2.0//EN
METHOD:PUBLISH
X-PUBLISHED-TTL:P3D
REFRESH-INTERVAL:P3D
CALSCALE:GREGORIAN
BEGIN:VEVENT
DTSTART:20191201T150000Z
DTEND:20191225T010000Z
X-MICROSOFT-CDO-ALLDAYEVENT:FALSE
SUMMARY:FREE Santa Photo
DESCRIPTION:FREE Santa Photo\n\nNovember 29 through December 24\, 2019\n\n10 a.m. to 8 p.m. Monday - Saturday\, Sundays 11 a.m. to 6 p.m. and Christmas Eve\, 8 a.m. \n\nto 5 p.m. on Level 1\n\nHo\, Ho\, Ho! Every visitor at CambridgeSide will receive two FREE 4" x 6" Santa photo prints\, and a high-resolution digital download of a single image. Additional photos and Christmas merchandise will be available for purchase. (One giveaway per family\, per Christmas season. Some restrictions may apply.) Valid November 29 through December 24\, 2019. Visit CambridgeSide.com for details.
X-ALT-DESC;FMTTYPE=text/html:<strong><u><span style="font-family:arial\,sans-serif\;"><span style="font-size:11.0pt\;">FREE Santa Photo</span></span></u></strong><br />\n<strong><span style="font-family:arial\,sans-serif\;"><span style="font-size:11.0pt\;">November 29 through December 24\, 2019</span></span></strong><br />\n<strong><span style="font-family:arial\,sans-serif\;"><span style="font-size:11.0pt\;">10 a.m. to 8 p.m. Monday - Saturday\, Sundays 11 a.m. to 6 p.m. and Christmas Eve\, 8 a.m. </span></span></strong><br />\n<strong><span style="font-family:arial\,sans-serif\;"><span style="font-size:11.0pt\;">to 5 p.m. on Level 1</span></span></strong><br />\n<span style="font-family:arial\,sans-serif\;"><span style="font-size:11.0pt\;">Ho\, Ho\, Ho! Every visitor at CambridgeSide will receive two FREE 4&rdquo\; x 6&rdquo\; Santa photo prints\, and a high-resolution digital download of a single image. Additional photos and Christmas merchandise will be available for purchase. (One giveaway per family\, per Christmas season. Some restrictions may apply.) Valid November 29&nbsp\;</span></span><span style="text-decoration:none\;text-underline:none\;"><span style="color:windowtext\;"><span style="font-family:arial\,sans-serif\;"><span style="font-size:11.0pt\;">through December 24\, 201</span></span></span></span><span style="text-decoration:none\;text-underline:none\;"><span style="color:windowtext\;"><span style="font-family:arial\,sans-serif\;"><span style="font-size:11.0pt\;">9</span></span></span></span><span style="font-family:arial\,sans-serif\;"><span style="font-size:11.0pt\;">. Visit </span></span><a href="http://www.cambridgeside.com/"><span style="font-family:arial\,sans-serif\;"><span style="font-size:11.0pt\;">CambridgeSide.com</span></span></a><span style="font-family:arial\,sans-serif\;"><span style="font-size:11.0pt\;"> for details.</span></span>
LOCATION:
UID:e.2584.4662
SEQUENCE:3
DTSTAMP:20260424T083120Z
URL:https://business.cambridgechamber.org/events/details/free-santa-photo-4662
END:VEVENT

END:VCALENDAR
