BEGIN:VCALENDAR
VERSION:2.0
PRODID:-//ChamberMaster//Event Calendar 2.0//EN
METHOD:PUBLISH
X-PUBLISHED-TTL:P3D
REFRESH-INTERVAL:P3D
CALSCALE:GREGORIAN
BEGIN:VEVENT
DTSTART:20200110T130000Z
DTEND:20200110T150000Z
X-MICROSOFT-CDO-ALLDAYEVENT:FALSE
SUMMARY:Foundry Advisory Committee Meeting
DESCRIPTION:Foundry Advisory Committee Meeting\n\nFriday\, January 10 8am-10am\n\nFirst Floor Board Room at 93-99 Bishop Allen Drive\,  Cambridge\n\nhttps://www.cambridgeredevelopment.org/foundry-advisory-committee
X-ALT-DESC;FMTTYPE=text/html:<strong>Foundry Advisory Committee Meeting</strong><br />\nFriday\, January 10 8am-10am<br />\nFirst Floor Board Room at 93-99 Bishop Allen Drive\, &nbsp\;Cambridge<br />\n<a href="https://www.cambridgeredevelopment.org/foundry-advisory-committee">https://www.cambridgeredevelopment.org/foundry-advisory-committee</a>
LOCATION:
UID:e.2584.4677
SEQUENCE:3
DTSTAMP:20260424T064756Z
URL:https://business.cambridgechamber.org/events/details/foundry-advisory-committee-meeting-4677
END:VEVENT

END:VCALENDAR
