BEGIN:VCALENDAR
VERSION:2.0
PRODID:-//ChamberMaster//Event Calendar 2.0//EN
METHOD:PUBLISH
X-PUBLISHED-TTL:P3D
REFRESH-INTERVAL:P3D
CALSCALE:GREGORIAN
BEGIN:VEVENT
DTSTART:20191011T120000Z
DTEND:20191011T140000Z
X-MICROSOFT-CDO-ALLDAYEVENT:FALSE
SUMMARY:Foundry Advisory Committee Meeting
DESCRIPTION:In early September the City Manager announced two new appointments to the Foundry Advisory Committee\, Carole Sousa and Joyce Yoke-kar Chen. Both bring strong enthusiasm for the Foundry project\, an understanding of the interests and needs of Cambridge families\, experience engaging people in community building activities\, and a desire to see the Foundry help advance racial and economic equity as it provides arts\, technology and workforce education programs.\n\nThe Foundry Advisory Committee is a group of Cambridge residents\, who play an advisory role to the City of Cambridge and the Cambridge Redevelopment Authority\, to ensure that the Foundry's redevelopment and ongoing operation remains consistent with the Vision and Objectives established in the Demonstration Plan.
X-ALT-DESC;FMTTYPE=text/html:In early September the City Manager announced two new appointments to the Foundry Advisory Committee\,&nbsp\;Carole Sousa and Joyce Yoke-kar Chen. Both bring strong enthusiasm for the Foundry project\, an understanding of the interests and needs of Cambridge families\, experience engaging people in community building activities\, and a desire to see the Foundry help advance racial and economic equity as it provides arts\, technology and workforce education programs.<br />\nThe Foundry Advisory Committee is a group of Cambridge residents\, who play an advisory role to the City of Cambridge and the Cambridge Redevelopment Authority\, to ensure that the Foundry&#39\;s redevelopment and ongoing operation remains consistent with the Vision and Objectives established in the&nbsp\;Demonstration Plan.&nbsp\;<br />\n<br />\n&nbsp\;
LOCATION:Police Station 125 Sixth Street\, Cambridge MA
UID:e.2584.4651
SEQUENCE:3
DTSTAMP:20260424T130055Z
URL:https://business.cambridgechamber.org/events/details/foundry-advisory-committee-meeting-4651
END:VEVENT

END:VCALENDAR
