BEGIN:VCALENDAR
VERSION:2.0
PRODID:-//ChamberMaster//Event Calendar 2.0//EN
METHOD:PUBLISH
X-PUBLISHED-TTL:P3D
REFRESH-INTERVAL:P3D
CALSCALE:GREGORIAN
BEGIN:VEVENT
DTSTART:20191030T123000Z
DTEND:20191030T230000Z
X-MICROSOFT-CDO-ALLDAYEVENT:FALSE
SUMMARY:Forsyth Symposium: Immune Modulation of the Host-Microbe Interface
DESCRIPTION:Wanjun Chen\, M.D.\, Senior Investigator and Chief\, Mucosal Immunology Section\, NIDCR\, NIH\n\nHeather Conti\, Assistant Professor\, The University of Toledo\, Ohio\n\nWendy Garrett\, Professor of Immunology and Infectious Diseases\, Department of Immunology and Infectious Diseases\, Department of Genetics and Complex Diseases\, Department of Medicine\, Harvard Medical School\n\nGeorge Hajishengallis\, D.D.S.\, Ph.D.\, Thomas W. Evans Centennial Professor\, Department of Microbiology\, Penn Dental Medicine\, University of Pennsylvania \n\nXiaozhe Han\, Associate Member of the Staff\, Forsyth Institute\n\nCintia S De Paiva\, M.D.\, Ph.D.\, Associate Professor\, Ophthalmology Department\, Baylor College of Medicine\, Texas\n\nThomas Van Dyke Senior Member of Staff\, Vice President of Clinical and Translational Research\, Forsyth Institute\n\nShannon Wallet\, Ph.D.\, Associate Professor and Division Director for Basic Sciences and Interim Chair of Foundational Sciences\, School of Dental Medicine\, East Carolina University \n\nQing Yu\, Associate Member of the Staff\, Forsyth Institute
X-ALT-DESC;FMTTYPE=text/html:<p style="box-sizing: border-box\; margin: 0px 0px 15px\; line-height: 18px\; opacity: 0.9\; color: rgb(51\, 51\, 51)\; font-family: Helvetica\, Arial\, sans-serif\; font-size: 14px\;">Wanjun Chen\, M.D.\, Senior Investigator and Chief\, Mucosal Immunology Section\, NIDCR\, NIH</p>\n\n<p style="box-sizing: border-box\; margin: 0px 0px 15px\; line-height: 18px\; opacity: 0.9\; color: rgb(51\, 51\, 51)\; font-family: Helvetica\, Arial\, sans-serif\; font-size: 14px\;">Heather Conti\, Assistant Professor\, The University of Toledo\, Ohio</p>\n\n<p style="box-sizing: border-box\; margin: 0px 0px 15px\; line-height: 18px\; opacity: 0.9\; color: rgb(51\, 51\, 51)\; font-family: Helvetica\, Arial\, sans-serif\; font-size: 14px\;">Wendy Garrett\, Professor of Immunology and Infectious Diseases\, Department of Immunology and Infectious Diseases\, Department of Genetics and Complex Diseases\, Department of Medicine\, Harvard Medical School</p>\n\n<p style="box-sizing: border-box\; margin: 0px 0px 15px\; line-height: 18px\; opacity: 0.9\; color: rgb(51\, 51\, 51)\; font-family: Helvetica\, Arial\, sans-serif\; font-size: 14px\;">George Hajishengallis\, D.D.S.\, Ph.D.\, Thomas W. Evans Centennial Professor\, Department of Microbiology\, Penn Dental Medicine\, University of Pennsylvania&nbsp\;</p>\n\n<p style="box-sizing: border-box\; margin: 0px 0px 15px\; line-height: 18px\; opacity: 0.9\; color: rgb(51\, 51\, 51)\; font-family: Helvetica\, Arial\, sans-serif\; font-size: 14px\;">Xiaozhe Han\, Associate Member of the Staff\, Forsyth Institute</p>\n\n<p style="box-sizing: border-box\; margin: 0px 0px 15px\; line-height: 18px\; opacity: 0.9\; color: rgb(51\, 51\, 51)\; font-family: Helvetica\, Arial\, sans-serif\; font-size: 14px\;">Cintia S De Paiva\, M.D.\, Ph.D.\, Associate Professor\, Ophthalmology Department\, Baylor College of Medicine\, Texas</p>\n\n<p style="box-sizing: border-box\; margin: 0px 0px 15px\; line-height: 18px\; opacity: 0.9\; color: rgb(51\, 51\, 51)\; font-family: Helvetica\, Arial\, sans-serif\; font-size: 14px\;">Thomas Van Dyke&nbsp\;Senior Member of Staff\, Vice President of Clinical and Translational Research\, Forsyth Institute</p>\n\n<p style="box-sizing: border-box\; margin: 0px 0px 15px\; line-height: 18px\; opacity: 0.9\; color: rgb(51\, 51\, 51)\; font-family: Helvetica\, Arial\, sans-serif\; font-size: 14px\;">Shannon Wallet\, Ph.D.\, Associate Professor and Division Director for Basic Sciences and Interim Chair of Foundational Sciences\, School of Dental Medicine\, East Carolina University&nbsp\;</p>\n\n<p style="box-sizing: border-box\; margin: 0px 0px 15px\; line-height: 18px\; opacity: 0.9\; color: rgb(51\, 51\, 51)\; font-family: Helvetica\, Arial\, sans-serif\; font-size: 14px\;">Qing Yu\, Associate Member of the Staff\, Forsyth Institute</p>\n
LOCATION:Forsyth Institute 1 Athenaeum Street Cambridge\, MA 02142
UID:e.2584.4602
SEQUENCE:3
DTSTAMP:20260424T112139Z
URL:https://business.cambridgechamber.org/events/details/forsyth-symposium-immune-modulation-of-the-host-microbe-interface-4602
END:VEVENT

END:VCALENDAR
