BEGIN:VCALENDAR
VERSION:2.0
PRODID:-//ChamberMaster//Event Calendar 2.0//EN
METHOD:PUBLISH
X-PUBLISHED-TTL:P3D
REFRESH-INTERVAL:P3D
CALSCALE:GREGORIAN
BEGIN:VEVENT
DTSTART:20190403T200000Z
DTEND:20190403T220000Z
X-MICROSOFT-CDO-ALLDAYEVENT:FALSE
SUMMARY:Forsyth Faculty Associates Dental Practice Open House
DESCRIPTION:Join our family for an Open House.\n	Meet Dentists\, Hygienists\, Assistants & Staff\n	Take a Tour of the Clinic\n	Learn About Our Services\n\nBeverages and Hors d'ouevres will be served
X-ALT-DESC;FMTTYPE=text/html:<ul>\n	<li>Join our family for an Open House.</li>\n	<li>Meet Dentists\, Hygienists\, Assistants &amp\; Staff</li>\n	<li>Take a Tour of the Clinic</li>\n	<li>Learn About Our Services</li>\n</ul>\nBeverages and Hors d&#39\;ouevres will be served
LOCATION:245 First Street- 17th Floor Cambridge\, MA 02142-1200
UID:e.2584.3814
SEQUENCE:3
DTSTAMP:20260424T214354Z
URL:https://business.cambridgechamber.org/events/details/forsyth-faculty-associates-dental-practice-open-house-3814
END:VEVENT

END:VCALENDAR
