BEGIN:VCALENDAR
VERSION:2.0
PRODID:-//ChamberMaster//Event Calendar 2.0//EN
METHOD:PUBLISH
X-PUBLISHED-TTL:P3D
REFRESH-INTERVAL:P3D
CALSCALE:GREGORIAN
BEGIN:VEVENT
DTSTART:20191123T153000Z
DTEND:20191123T190000Z
X-MICROSOFT-CDO-ALLDAYEVENT:FALSE
SUMMARY:Food For Free Benefit Brunch at Viale
DESCRIPTION:Food For Free\, a Cambridge-based non-profit dedicated to providing every member of the Greater Boston community with reliable access to fresh and nutritious food\, is teaming up with Viale Restaurant for a Benefit Brunch to raise money for Food For Free and the life changing programs they provide to the community. Enjoy a three course prix fixe brunch\, including coffee\, with your family or friends\, lovingly prepared by Viale chefs for $35 per person with 100% of your money spent going towards Food For Free. Viale serves up Italian-inspired farm-to-table meals in a warm\, casual environment in the heart of Central Square. Each year\, they generously designate a brunch service to the organization\, donating the entire day\, including their service\, food\, and the money paid by brunch-goers to attend. This year\, the community is invited to take part in the brunch and do their delicious part by ordering and enjoying a Saturday brunch on November 23rd. Attendees will dine on offerings from a special pre-fixe menu with a variety of choices\, all for $35 (alcohol not included). Advance reservations are strongly recommended as tables have traditionally filled up and sold out. Reservations can be made by calling Viale (617) 576-1900.
X-ALT-DESC;FMTTYPE=text/html:Food For Free\, a Cambridge-based non-profit dedicated to providing every member of the Greater Boston community with reliable access to fresh and nutritious food\, is teaming up with Viale Restaurant for a Benefit Brunch to raise money for Food For Free and the life changing programs they provide to the community. Enjoy a three course prix fixe brunch\, including coffee\, with your family or friends\, lovingly prepared by Viale chefs for $35 per person with 100% of your money spent going towards Food For Free. Viale serves up Italian-inspired farm-to-table meals in a warm\, casual environment in the heart of Central Square. Each year\, they generously designate a brunch service to the organization\, donating the entire day\, including their service\, food\, and the money paid by brunch-goers to attend. This year\, the community is invited to take part in the brunch and do their delicious part by ordering and enjoying a Saturday brunch on November 23rd. Attendees will dine on offerings from a special pre-fixe menu with a variety of choices\, all for $35 (alcohol not included). Advance reservations are strongly recommended as tables have traditionally filled up and sold out. Reservations can be made by calling Viale (617) 576-1900.
LOCATION:Viale - 502 Mass Ave.\, Cambridge\, MA 02139
UID:e.2584.4656
SEQUENCE:3
DTSTAMP:20260424T100759Z
URL:https://business.cambridgechamber.org/events/details/food-for-free-benefit-brunch-at-viale-4656
END:VEVENT

END:VCALENDAR
