BEGIN:VCALENDAR
VERSION:2.0
PRODID:-//ChamberMaster//Event Calendar 2.0//EN
METHOD:PUBLISH
X-PUBLISHED-TTL:P3D
REFRESH-INTERVAL:P3D
CALSCALE:GREGORIAN
BEGIN:VEVENT
DTSTART:20191022T130000Z
DTEND:20191022T200000Z
X-MICROSOFT-CDO-ALLDAYEVENT:FALSE
SUMMARY:Food Business Workshop Series: ServeSafe Certification Training
DESCRIPTION:Christina DiLisio\, cdilisio@cambridgema.gov\, 617-349-4601\n\nPresenter-Robert Buoniconti\, ServeSafe trainer and proctor.\n\nServeSafe Certification training is a common and important requirement for food service employees. Food businesses ranging from brick-and-mortar operations to food truck operators and specialty caterers are all required to produce proof of ServeSafe Certification for many activities in Cambridge. This two-part workshop offers attendees the opportunity to take an in-person ServeSafe training module and then a ServeSafe test administered by paper and led by an experienced ServeSafe trainer. This training is ideal for first-time food businesses looking to do catering or pop-up markets in Cambridge.
X-ALT-DESC;FMTTYPE=text/html:<p style="margin: 0px 0px 1em\; padding: 0px\; border: 0px\; line-height: 1.4\; font-family: myriad-pro\, Arial\, Helvetica\, sans-serif\; font-size: 12px\;">Christina DiLisio\, cdilisio@cambridgema.gov\, 617-349-4601</p>\n\n<p style="margin: 0px 0px 1em\; padding: 0px\; border: 0px\; line-height: 1.4\; font-family: myriad-pro\, Arial\, Helvetica\, sans-serif\; font-size: 12px\;">Presenter-Robert Buoniconti\, ServeSafe trainer and proctor.</p>\n\n<p style="margin: 0px 0px 1em\; padding: 0px\; border: 0px\; line-height: 1.4\; font-family: myriad-pro\, Arial\, Helvetica\, sans-serif\; font-size: 12px\;">ServeSafe Certification training is a common and important requirement for food service employees. Food businesses ranging from brick-and-mortar operations to food truck operators and specialty caterers are all required to produce proof of ServeSafe Certification for many activities in Cambridge. This two-part workshop offers attendees the opportunity to take an in-person ServeSafe training module and then a ServeSafe test administered by paper and led by an experienced ServeSafe trainer. This training is ideal for first-time food businesses looking to do catering or pop-up markets in Cambridge.</p>\n
LOCATION:
UID:e.2584.4633
SEQUENCE:3
DTSTAMP:20260424T112436Z
URL:https://business.cambridgechamber.org/events/details/food-business-workshop-series-servesafe-certification-training-4633
END:VEVENT

END:VCALENDAR
