BEGIN:VCALENDAR
VERSION:2.0
PRODID:-//ChamberMaster//Event Calendar 2.0//EN
METHOD:PUBLISH
X-PUBLISHED-TTL:P3D
REFRESH-INTERVAL:P3D
CALSCALE:GREGORIAN
BEGIN:VEVENT
DTSTART:20200512T213000Z
DTEND:20200513T003000Z
X-MICROSOFT-CDO-ALLDAYEVENT:FALSE
SUMMARY:Food Business Financials 101
DESCRIPTION:Food Business Financials 101\n\nDate: Tuesday\, May 12\, 2020 \n\nLocation: City Hall Annex\, 344 Broadway\, 4th Floor Conference Room\n\nTime: 5:30   8:30 p.m.\n\nAttendees will learn all elements of a Profit and Loss Statement\, how to analyze financial information and how to make business decisions to improve financial performance.  Attendees will be given tools and approaches to help review company-specific financial history and performance.  Attendees will learn industry standards (Expense Ratios\, Cost Accounting Best Practices) and associated best practices for basic and exceptional financial performance for a restaurant. This training will be led by ReThink Restaurants\, a leader in financial literacy and leadership development who has worked with such restaurants as Mei Mei Street Kitchen\, Juliet\, and Bar Mezzana. This workshop is ideal for early stage business owners or established businesses interested is staff development. Spanish-speaking presenter will be available to co-host.
X-ALT-DESC;FMTTYPE=text/html:<p style="margin: 0px 0px 12pt\; padding: 0px\; border: 0px\; font-size: 1.165em\; line-height: 1.3\; font-family: myriad-pro\, Arial\, Helvetica\, sans-serif\;"><strong>Food Business Financials 101</strong></p>\n\n<p style="margin: 0px 0px 12pt\; padding: 0px\; border: 0px\; font-size: 1.165em\; line-height: 1.3\; font-family: myriad-pro\, Arial\, Helvetica\, sans-serif\;"><strong>Date:</strong>&nbsp\;Tuesday\, May 12\, 2020&nbsp\;<br />\n<strong>Location:</strong>&nbsp\;City Hall Annex\, 344 Broadway\, 4th&nbsp\;Floor Conference Room<br />\n<strong>Time:</strong>&nbsp\;5:30 &ndash\; 8:30 p.m.</p>\n\n<p style="margin: 0px 0px 12pt\; padding: 0px\; border: 0px\; font-size: 1.165em\; line-height: 1.3\; font-family: myriad-pro\, Arial\, Helvetica\, sans-serif\;">Attendees will learn all elements of a Profit and Loss Statement\, how to analyze financial information and how to make business decisions to improve financial performance.&nbsp\; Attendees will be given tools and approaches to help review company-specific financial history and performance.&nbsp\; Attendees will learn industry standards (Expense Ratios\, Cost Accounting Best Practices) and associated best practices for basic and exceptional financial performance for a restaurant. This training will be led by ReThink Restaurants\, a leader in financial literacy and leadership development who has worked with such restaurants as Mei Mei Street Kitchen\, Juliet\, and Bar Mezzana. This workshop is ideal for early stage business owners or established businesses interested is staff development.&nbsp\;<em>Spanish-speaking presenter will be available to co-host.</em></p>\n
LOCATION:
UID:e.2584.5342
SEQUENCE:3
DTSTAMP:20260424T001259Z
URL:https://business.cambridgechamber.org/events/details/food-business-financials-101-5342
END:VEVENT

END:VCALENDAR
