BEGIN:VCALENDAR
VERSION:2.0
PRODID:-//ChamberMaster//Event Calendar 2.0//EN
METHOD:PUBLISH
X-PUBLISHED-TTL:P3D
REFRESH-INTERVAL:P3D
CALSCALE:GREGORIAN
BEGIN:VEVENT
DTSTART:20210210T143000Z
DTEND:20210210T153000Z
X-MICROSOFT-CDO-ALLDAYEVENT:FALSE
SUMMARY:Financial Literacy and Resources Webinar
DESCRIPTION:Difficult times create opportunities for scammers to take advantage of individuals and businesses. With scams on the rise\, financial literacy has become essential. Join us February 10th as Jim Tierney from East Cambridge Savings Bank covers the topic of fraud.\n\n\n\nWebinar Overview\n\n\n	Introductory discussion regarding current events & trends in fraud\n	FAQs and common misconceptions   \n	Understanding various types of fraud\n	Learning how to recognize a fraud attempt\n	Understanding what scammers are after\n	What to do if you're contacted and or scammed\n	Learning How to protect yourself \n	Tips for avoiding fraud\n	Available resources \n	Q & A
X-ALT-DESC;FMTTYPE=text/html:<div style="margin-left:0in\;background:white\;"><span style="font-family:arial\;"><span style="color:black\;"><span style="font-size:24px\;">Difficult times create opportunities for scammers to take advantage of individuals and businesses. With scams on the rise\, financial literacy has become essential. Join us February 10th as&nbsp\;Jim Tierney from East Cambridge Savings Bank covers the topic of fraud.</span><br />\n<br />\n<span style="font-size:18px\;">Webinar Overview</span></span></span></div>\n\n<ul>\n	<li style="margin-left: 0in\; background: white\;"><span style="font-size:18px\;"><span style="font-family:arial\;"><span style="color:black\;">Introductory discussion regarding current events &amp\; trends in fraud</span></span></span></li>\n	<li style="margin-left:0in\;background:white\;"><span style="font-size:18px\;"><span style="font-family:arial\;"><span style="color:black\;">FAQs and common misconceptions&nbsp\;&nbsp\; </span></span></span></li>\n	<li style="margin-left:0in\;background:white\;"><span style="font-size:18px\;"><span style="font-family:arial\;"><span style="color:black\;">Understanding various types of fraud</span></span></span></li>\n	<li style="margin-left:0in\;background:white\;"><span style="font-size:18px\;"><span style="font-family:arial\;"><span style="color:black\;">Learning how to&nbsp\;recognize a fraud attempt</span></span></span></li>\n	<li style="margin-left:0in\;background:white\;"><span style="font-size:18px\;"><span style="font-family:arial\;"><span style="color:black\;">Understanding what scammers are after</span></span></span></li>\n	<li style="margin-left:0in\;background:white\;"><span style="font-size:18px\;"><span style="font-family:arial\;"><span style="color:black\;">What to do if you&rsquo\;re contacted and or scammed</span></span></span></li>\n	<li style="margin-left:0in\;background:white\;"><span style="font-size:18px\;"><span style="font-family:arial\;"><span style="color:black\;">Learning How to protect yourself </span></span></span></li>\n	<li style="margin-left:0in\;background:white\;"><span style="font-size:18px\;"><span style="font-family:arial\;"><span style="color:black\;">Tips for avoiding fraud</span></span></span></li>\n	<li style="margin-left:0in\;background:white\;"><span style="font-size:18px\;"><span style="font-family:arial\;"><span style="color:black\;">Available resources </span></span></span></li>\n	<li style="margin-left:0in\;background:white\;"><span style="font-size:18px\;"><span style="font-family:arial\;"><span style="color:black\;">Q &amp\; A</span></span></span></li>\n</ul>\n
LOCATION:
UID:e.2584.5923
SEQUENCE:3
DTSTAMP:20260423T101517Z
URL:https://business.cambridgechamber.org/events/details/financial-literacy-and-resources-webinar-5923
END:VEVENT

END:VCALENDAR
