BEGIN:VCALENDAR
VERSION:2.0
PRODID:-//ChamberMaster//Event Calendar 2.0//EN
METHOD:PUBLISH
X-PUBLISHED-TTL:P3D
REFRESH-INTERVAL:P3D
CALSCALE:GREGORIAN
BEGIN:VEVENT
DTSTART:20190820T213000Z
DTEND:20190821T020000Z
X-MICROSOFT-CDO-ALLDAYEVENT:FALSE
SUMMARY:Film Night
DESCRIPTION:Join FUJIFILM Diosynth Biotechnologies for a family-friendly film screening on the Tech Square Lawn. We invite all neighbors\, families\, and friends! \n\n\n\n\nEnjoy a warm summer night on the beautiful lawn in Tech Square as we get together\, play some games\, enjoy a fun performance and watch a classic Pixar movie. We invite all neighbors\, families\, and friends!\n\n\n\nThere will be no shortage of fun activities for all ages\, including:\n\n- Beer Garden provided by State Park \n\n- an introduction to coding with robots\n\n- a fun space for kids\n\n- a great performance by Jeghetto\, a puppeteer\, performing "Time Machine" as a duo with his son -http://www.jeghetto.com/time-machine/\n\n- screening of a classic blockbuster about a lonely robot discovering space\n\n\n\nAll entertainment starts at 7pm and the movie starts at 8pm.\n\n\n\nBring a picnic\, lawn chair or blanket\, and friends! \n\n\n\nThank you to our sponsors: \n\nEastern Bank\, Clark Lau\, and Fujifilm Diosynth Biotechnologies\n\n\n\nThe KSA Film Night is part of the Cambridge Art Council's Summer in the City free programming. The complete schedule of free programming is available here.
X-ALT-DESC;FMTTYPE=text/html:<h4 style="margin:0in\;margin-bottom:.0001pt\;line-height:16.9pt"><span style="font-size:13.5pt\;font-family:&quot\;Helvetica&quot\;\,sans-serif\;color:#202020">Join FUJIFILM Diosynth Biotechnologies for a&nbsp\;family-friendly&nbsp\;<span class="gmail-il">film</span>&nbsp\;screening on the Tech Square Lawn. We invite all neighbors\, families\, and friends!&nbsp\;<o:p></o:p></span></h4>\n<br />\n<br />\n<span style="color: rgb(29\, 33\, 41)\; font-family: Helvetica\, Arial\, sans-serif\; font-size: 14px\; white-space: pre-wrap\; background-color: rgb(255\, 255\, 255)\;">Enjoy a warm summer night on the beautiful lawn in Tech Square as we get together\, play some games\, enjoy a fun performance and watch a classic Pixar movie. We invite all neighbors\, families\, and friends!</span><br style="color: rgb(29\, 33\, 41)\; font-family: Helvetica\, Arial\, sans-serif\; font-size: 14px\; white-space: pre-wrap\; background-color: rgb(255\, 255\, 255)\;" />\n<br style="color: rgb(29\, 33\, 41)\; font-family: Helvetica\, Arial\, sans-serif\; font-size: 14px\; white-space: pre-wrap\; background-color: rgb(255\, 255\, 255)\;" />\n<span style="color: rgb(29\, 33\, 41)\; font-family: Helvetica\, Arial\, sans-serif\; font-size: 14px\; white-space: pre-wrap\; background-color: rgb(255\, 255\, 255)\;">There will be no shortage of fun activities for all ages\, including:</span><br style="color: rgb(29\, 33\, 41)\; font-family: Helvetica\, Arial\, sans-serif\; font-size: 14px\; white-space: pre-wrap\; background-color: rgb(255\, 255\, 255)\;" />\n<span style="color: rgb(29\, 33\, 41)\; font-family: Helvetica\, Arial\, sans-serif\; font-size: 14px\; white-space: pre-wrap\; background-color: rgb(255\, 255\, 255)\;">- Beer Garden provided by State Park </span><br style="color: rgb(29\, 33\, 41)\; font-family: Helvetica\, Arial\, sans-serif\; font-size: 14px\; white-space: pre-wrap\; background-color: rgb(255\, 255\, 255)\;" />\n<span style="color: rgb(29\, 33\, 41)\; font-family: Helvetica\, Arial\, sans-serif\; font-size: 14px\; white-space: pre-wrap\; background-color: rgb(255\, 255\, 255)\;">- an introduction to coding with robots</span><br style="color: rgb(29\, 33\, 41)\; font-family: Helvetica\, Arial\, sans-serif\; font-size: 14px\; white-space: pre-wrap\; background-color: rgb(255\, 255\, 255)\;" />\n<span style="color: rgb(29\, 33\, 41)\; font-family: Helvetica\, Arial\, sans-serif\; font-size: 14px\; white-space: pre-wrap\; background-color: rgb(255\, 255\, 255)\;">- a fun space for kids</span><br style="color: rgb(29\, 33\, 41)\; font-family: Helvetica\, Arial\, sans-serif\; font-size: 14px\; white-space: pre-wrap\; background-color: rgb(255\, 255\, 255)\;" />\n<span style="color: rgb(29\, 33\, 41)\; font-family: Helvetica\, Arial\, sans-serif\; font-size: 14px\; white-space: pre-wrap\; background-color: rgb(255\, 255\, 255)\;">- a great performance by Jeghetto\, a puppeteer\, performing &ldquo\;Time Machine&rdquo\; as a duo with his son -</span><a data-lynx-mode="hover" href="https://l.facebook.com/l.php?u=http%3A%2F%2Fwww.jeghetto.com%2Ftime-machine%2F%3Ffbclid%3DIwAR0i5cgrvUc9VW9gv5Y8X9rqE8v4TRbzrGVFwvpXMZAjaTMhGq4EicaNto8&amp\;h=AT1f7N3ZjjXWoIzXp402blWjdMF04vO-VMlYHkuoyRfHPwAl-6pEu7yKqYOXm77Z1r7INyithPpveghZ45ZS_239tXcfuuuXdcTcfqK510H3jAjI1MNBTBXePmzq_kWCbSs" rel="nofollow noopener" style="color: rgb(56\, 88\, 152)\; cursor: pointer\; text-decoration-line: none\; font-family: Helvetica\, Arial\, sans-serif\; font-size: 14px\; white-space: pre-wrap\; background-color: rgb(255\, 255\, 255)\;" target="_blank">http://www.jeghetto.com/time-machine/</a><br style="color: rgb(29\, 33\, 41)\; font-family: Helvetica\, Arial\, sans-serif\; font-size: 14px\; white-space: pre-wrap\; background-color: rgb(255\, 255\, 255)\;" />\n<span style="color: rgb(29\, 33\, 41)\; font-family: Helvetica\, Arial\, sans-serif\; font-size: 14px\; white-space: pre-wrap\; background-color: rgb(255\, 255\, 255)\;">- screening of a classic blockbuster about a lonely robot discovering space</span><br style="color: rgb(29\, 33\, 41)\; font-family: Helvetica\, Arial\, sans-serif\; font-size: 14px\; white-space: pre-wrap\; background-color: rgb(255\, 255\, 255)\;" />\n<br style="color: rgb(29\, 33\, 41)\; font-family: Helvetica\, Arial\, sans-serif\; font-size: 14px\; white-space: pre-wrap\; background-color: rgb(255\, 255\, 255)\;" />\n<span style="color: rgb(29\, 33\, 41)\; font-family: Helvetica\, Arial\, sans-serif\; font-size: 14px\; white-space: pre-wrap\; background-color: rgb(255\, 255\, 255)\;">All entertainment starts at 7pm and the movie starts at 8pm.</span><br style="color: rgb(29\, 33\, 41)\; font-family: Helvetica\, Arial\, sans-serif\; font-size: 14px\; white-space: pre-wrap\; background-color: rgb(255\, 255\, 255)\;" />\n<br style="color: rgb(29\, 33\, 41)\; font-family: Helvetica\, Arial\, sans-serif\; font-size: 14px\; white-space: pre-wrap\; background-color: rgb(255\, 255\, 255)\;" />\n<span style="color: rgb(29\, 33\, 41)\; font-family: Helvetica\, Arial\, sans-serif\; font-size: 14px\; white-space: pre-wrap\; background-color: rgb(255\, 255\, 255)\;">Bring a picnic\, lawn chair or blanket\, and friends! </span><br style="color: rgb(29\, 33\, 41)\; font-family: Helvetica\, Arial\, sans-serif\; font-size: 14px\; white-space: pre-wrap\; background-color: rgb(255\, 255\, 255)\;" />\n<br style="color: rgb(29\, 33\, 41)\; font-family: Helvetica\, Arial\, sans-serif\; font-size: 14px\; white-space: pre-wrap\; background-color: rgb(255\, 255\, 255)\;" />\n<span style="color: rgb(29\, 33\, 41)\; font-family: Helvetica\, Arial\, sans-serif\; font-size: 14px\; white-space: pre-wrap\; background-color: rgb(255\, 255\, 255)\;">Thank you to our sponsors: </span><br style="color: rgb(29\, 33\, 41)\; font-family: Helvetica\, Arial\, sans-serif\; font-size: 14px\; white-space: pre-wrap\; background-color: rgb(255\, 255\, 255)\;" />\n<span style="color: rgb(29\, 33\, 41)\; font-family: Helvetica\, Arial\, sans-serif\; font-size: 14px\; white-space: pre-wrap\; background-color: rgb(255\, 255\, 255)\;">Eastern Bank\, Clark Lau\, and Fujifilm Diosynth Biotechnologies</span><br style="color: rgb(29\, 33\, 41)\; font-family: Helvetica\, Arial\, sans-serif\; font-size: 14px\; white-space: pre-wrap\; background-color: rgb(255\, 255\, 255)\;" />\n<br style="color: rgb(29\, 33\, 41)\; font-family: Helvetica\, Arial\, sans-serif\; font-size: 14px\; white-space: pre-wrap\; background-color: rgb(255\, 255\, 255)\;" />\n<span style="color: rgb(29\, 33\, 41)\; font-family: Helvetica\, Arial\, sans-serif\; font-size: 14px\; white-space: pre-wrap\; background-color: rgb(255\, 255\, 255)\;">The KSA Film Night is part of the Cambridge Art Council&#39\;s Summer in the City free programming. The complete schedule of free programming is available here. </span>
LOCATION:Technology Square 510 Kendall Street
UID:e.2584.4603
SEQUENCE:3
DTSTAMP:20260424T144610Z
URL:https://business.cambridgechamber.org/events/details/film-night-4603
END:VEVENT

END:VCALENDAR
