BEGIN:VCALENDAR
VERSION:2.0
PRODID:-//ChamberMaster//Event Calendar 2.0//EN
METHOD:PUBLISH
X-PUBLISHED-TTL:P3D
REFRESH-INTERVAL:P3D
CALSCALE:GREGORIAN
BEGIN:VEVENT
DTSTART:20191214T160000Z
DTEND:20191214T180000Z
X-MICROSOFT-CDO-ALLDAYEVENT:FALSE
SUMMARY:Farr Academy Holiday Ceramics and Woodworks Sale
DESCRIPTION:FARR ACADEMY WARMLY WELCOMES YOU to visit our studio!  Enjoy complimentary hot chocolate and baked goodies\; learn more about the work we do with students (we've been around since 1972)\; and browse through the selection of student-crafted artifacts for sale -- they make excellent\, one-of-a-kind holiday gifts!\n\n \n\nFARR WORKS is an art studio and woodshop developed to provide students at Farr Academy with an opportunity to build self-confidence and self-esteem\, develop job-related skills\, and enhance their creative skills through a work experience.\n\n \n\nThis project was developed by Barbara Greenspan\, an art therapist who formerly worked at Farr Academy\, and became a reality in the summer of 1992 when four students were hired to work in the studio.  Later\, woodshop was added to the program and over the decades dozens of students have successfully engaged in Farr Works to create slab-built clay pottery\, hand painted clay trivets\, wooden cutting boards and toys\, and even furniture.\n\n \n\nIncome from the sale of these products goes directly toward the salaries of students and the costs of this project.\n\n \n\nThe mission of Farr Academy is to provide challenging and troubled adolescents with a therapeutic education that fosters the building of academic\, personal and interpersonal skills\, thereby enabling them to graduate from high school\; achieve success in their chosen careers\; remain connected to their families\; and become positive members of the larger community.
X-ALT-DESC;FMTTYPE=text/html:FARR ACADEMY WARMLY WELCOMES YOU to visit our studio!&nbsp\; Enjoy complimentary hot chocolate and baked goodies\; learn more about the work we do with students (we&#39\;ve been around since 1972)\; and browse through the selection of student-crafted artifacts for sale -- they make excellent\, one-of-a-kind holiday gifts!<br />\n&nbsp\;<br />\nFARR WORKS is an art studio and woodshop developed to provide students at Farr Academy with an opportunity to build self-confidence and self-esteem\, develop job-related skills\, and enhance their creative skills through a work experience.<br />\n&nbsp\;<br />\nThis project was developed by Barbara Greenspan\, an art therapist who formerly worked at Farr Academy\, and became a reality in the summer of 1992 when four students were hired to work in the studio.&nbsp\; Later\, woodshop was added to the program and over the decades dozens of students have successfully engaged in Farr Works to create slab-built clay pottery\, hand painted clay trivets\, wooden cutting boards and toys\, and even furniture.<br />\n&nbsp\;<br />\nIncome from the sale of these products goes directly toward the salaries of students and the costs of this project.<br />\n&nbsp\;<br />\n<em>The mission of Farr Academy is to provide challenging and troubled adolescents with a therapeutic education that fosters the building of academic\, personal and interpersonal skills\, thereby enabling them to graduate from high school\; achieve success in their chosen careers\; remain connected to their families\; and become positive members of the larger community.</em>
LOCATION:
UID:e.2584.4668
SEQUENCE:3
DTSTAMP:20260424T083819Z
URL:https://business.cambridgechamber.org/events/details/farr-academy-holiday-ceramics-and-woodworks-sale-4668
END:VEVENT

END:VCALENDAR
