BEGIN:VCALENDAR
VERSION:2.0
PRODID:-//ChamberMaster//Event Calendar 2.0//EN
METHOD:PUBLISH
X-PUBLISHED-TTL:P3D
REFRESH-INTERVAL:P3D
CALSCALE:GREGORIAN
BEGIN:VEVENT
DTSTART;VALUE=DATE:20200326
DTEND;VALUE=DATE:20200601
TRANSP:TRANSPARENT
X-MICROSOFT-CDO-ALLDAYEVENT:TRUE
SUMMARY:Executive/Business Coaching at a Deeply Discounted Rate During the Coronavirus Pandemic
DESCRIPTION:I am offering 30-minute coaching sessions for any business or leader to help get through this coronavirus pandemic at a deeply discounted price of $25 per session. Possible scenarios\, the business/leader is struggling with figuring out how to operate in this new environment\, what to do next\, helping teams work remotely\, or just talk. Please email me @ bryan@visiontorealitycoaching.com
X-ALT-DESC;FMTTYPE=text/html:<span style="font-family:arial\,sans-serif"><span style="font-size:10.0pt">I am offering 30-minute coaching sessions for any business or leader to help get through this coronavirus pandemic at a deeply discounted price of $25 per session. Possible scenarios\, the business/leader is struggling with figuring out how to operate in this new environment\, what to do next\, helping teams work remotely\, or just talk. Please email me @ bryan@visiontorealitycoaching.com&nbsp\;</span></span>
LOCATION:Virtual
UID:e.2584.5379
SEQUENCE:3
DTSTAMP:20260424T001125Z
URL:https://business.cambridgechamber.org/events/details/executive-business-coaching-at-a-deeply-discounted-rate-during-the-coronavirus-pandemic-5379
END:VEVENT

END:VCALENDAR
