BEGIN:VCALENDAR
VERSION:2.0
PRODID:-//ChamberMaster//Event Calendar 2.0//EN
METHOD:PUBLISH
X-PUBLISHED-TTL:P3D
REFRESH-INTERVAL:P3D
CALSCALE:GREGORIAN
BEGIN:VEVENT
DTSTART:20191015T233000Z
DTEND:20191016T020000Z
X-MICROSOFT-CDO-ALLDAYEVENT:FALSE
SUMMARY:Ethan Iverson Quartet featuring Tom Harrell
DESCRIPTION:FEATURING: ETHAN IVERSON\, PIANO\n\nTOM HARRELL\, TRUMPET\n\nBEN STREET\, BASS\n\nERIC MCPHERSON\, DRUMS
X-ALT-DESC;FMTTYPE=text/html:FEATURING: ETHAN IVERSON\, PIANO<br />\nTOM HARRELL\, TRUMPET<br />\nBEN STREET\, BASS<br />\nERIC MCPHERSON\, DRUMS
LOCATION:Regattabar
UID:e.2584.4648
SEQUENCE:3
DTSTAMP:20260424T112113Z
URL:https://business.cambridgechamber.org/events/details/ethan-iverson-quartet-featuring-tom-harrell-4648
END:VEVENT

END:VCALENDAR
