BEGIN:VCALENDAR
VERSION:2.0
PRODID:-//ChamberMaster//Event Calendar 2.0//EN
METHOD:PUBLISH
X-PUBLISHED-TTL:P3D
REFRESH-INTERVAL:P3D
CALSCALE:GREGORIAN
BEGIN:VEVENT
DTSTART:20190823T140000Z
DTEND:20190823T170000Z
X-MICROSOFT-CDO-ALLDAYEVENT:FALSE
SUMMARY:Essentials of Fundraising
DESCRIPTION:Workshop by the Professional Development Collaborative \n\n\n\nWant to help your non-profit\, religious organization\, special cause? Seeking entry into the non-profit world? This workshop will help. It covers the essential topics of successful fundraising and is especially created for organizations operating on a shoe-string budget.  Topics include donor relations\, prospect management\, new lead generation\, special event planning\, major gifts\, e-newsletters\, creating and managing a Board of Directors\, volunteer and staff management\, online auctions\, social media marketing\, holiday appeals\, planned gifts\, corporate sponsorship and much more.
X-ALT-DESC;FMTTYPE=text/html:<span style="font-family: calibri\, sans-serif\; font-size: 16px\; background-color: rgb(255\, 255\, 255)\;">Workshop by the Professional Development Collaborative&nbsp\;<br />\n<br />\nWant to help your non-profit\, religious organization\, special cause? Seeking entry into the non-profit world? This workshop will help. It covers the essential topics of successful fundraising and is especially created for organizations operating on a shoe-string budget.&nbsp\; Topics include donor relations\, prospect management\, new lead generation\, special event planning\, major gifts\, e-newsletters\, creating and managing a Board of Directors\, volunteer and staff management\, online auctions\, social media marketing\, holiday appeals\, planned gifts\, corporate sponsorship and much more.</span>
LOCATION:Masshire Metro North Career Center 100 TradeCenter Suite G-100 Woburn
UID:e.2584.4606
SEQUENCE:3
DTSTAMP:20260424T144609Z
URL:https://business.cambridgechamber.org/events/details/essentials-of-fundraising-4606
END:VEVENT

END:VCALENDAR
