BEGIN:VCALENDAR
VERSION:2.0
PRODID:-//ChamberMaster//Event Calendar 2.0//EN
METHOD:PUBLISH
X-PUBLISHED-TTL:P3D
REFRESH-INTERVAL:P3D
CALSCALE:GREGORIAN
BEGIN:VEVENT
DTSTART:20200514T190000Z
DTEND:20200514T200000Z
X-MICROSOFT-CDO-ALLDAYEVENT:FALSE
SUMMARY:Ergonomics of Working from Home Webinar
DESCRIPTION:The Webinar is being presented by Tim Pottorff with QP3 ErgoSystems. He has been in the field of Ergonomics for over 28 years and has conducted over 30\,000 Ergonomic Assessments (Globally). Tim has worked for companies such as Texas Instruments\, Alcoa\, and Zurich before starting up QP3 ErgoSystems. We are looking forward to his insights and experiences that he will be sharing. https://www.linkedin.com/in/tim-pottorff-msc-cie-arm-519b17/\n\nAttached is the Invitation to our Webinar that we are holding Thursday\, May 14th at 3:00 pm central time.  \n\nYou may register by clicking on the link in the flyer or the link below.\n\nRegister in advance for this webinar:\n\nhttps://us02web.zoom.us/webinar/register/WN_a2w3nIf6Q7acegTc-uZIhQ
X-ALT-DESC;FMTTYPE=text/html:<p class="xmsonormal"><span style="font-size:20px\;"><span style="font-family:arial\;">The Webinar is being presented by Tim Pottorff with QP3 ErgoSystems.&nbsp\;He has been in the field of Ergonomics for over 28 years and has conducted over 30\,000 Ergonomic Assessments (Globally).&nbsp\;Tim has worked for companies such as Texas Instruments\, Alcoa\, and Zurich before starting up QP3 ErgoSystems.&nbsp\;We are looking forward to his insights and experiences that he will be sharing.&nbsp\;<a href="https://www.linkedin.com/in/tim-pottorff-msc-cie-arm-519b17/">https://www.linkedin.com/in/tim-pottorff-msc-cie-arm-519b17/</a></span></span></p>\n\n<p class="xmsonormal"><span style="font-size:20px\;"><span style="font-family:arial\;">Attached is the Invitation to our Webinar that we are holding Thursday\, May 14<sup>th</sup> at 3:00 pm central time.&nbsp\; </span></span><o:p></o:p></p>\n\n<p class="xmsonormal"><span style="font-size:20px\;"><span style="font-family:arial\;">You may register by clicking on the link in the flyer or the link below.</span></span></p>\n\n<p class="xmsonormal"><span style="font-size:20px\;"><span style="font-family:arial\;">Register in advance for this webinar:</span></span><o:p></o:p></p>\n\n<p class="xmsonormal"><span style="font-size:20px\;"><span style="font-family:arial\;"><a href="https://us02web.zoom.us/webinar/register/WN_a2w3nIf6Q7acegTc-uZIhQ">https://us02web.zoom.us/webinar/register/WN_a2w3nIf6Q7acegTc-uZIhQ</a></span></span><o:p></o:p></p>\n\n<p class="xmsonormal"><span style="font-size:10.0pt">&nbsp\;</span><o:p></o:p></p>\n
LOCATION:
UID:e.2584.5385
SEQUENCE:3
DTSTAMP:20260424T000948Z
URL:https://business.cambridgechamber.org/events/details/ergonomics-of-working-from-home-webinar-5385
END:VEVENT

END:VCALENDAR
