BEGIN:VCALENDAR
VERSION:2.0
PRODID:-//ChamberMaster//Event Calendar 2.0//EN
METHOD:PUBLISH
X-PUBLISHED-TTL:P3D
REFRESH-INTERVAL:P3D
CALSCALE:GREGORIAN
BEGIN:VEVENT
DTSTART:20190929T223000Z
DTEND:20190930T003000Z
X-MICROSOFT-CDO-ALLDAYEVENT:FALSE
SUMMARY:Erev Rosh Hashanah Dinner
DESCRIPTION:Welcome the New Year in style with us! Come join us for a family style dinner at the deli.\n\n \nA very special Dinner service in to ring in the New Year!\n\n1 seating at 6:30pm\n\nTicket includes a 4 course meal.\n\n\n	Matzah Ball Soup\n	Mixed Green Salad w/ Manischevitz vinaigrette\n	Choice of Chicken or Brisket for your party served with Green Beans and Noodle Kugel (vegetarian entree available upon request)\n	Honey Cake\n\n\n \n\nPlease inform us of any allergies or dietary restrictions. Accommodations may be made with advanced notice.\n\nSpecialty Cocktails\, Beer & Wine (more than just Manischevitz!) will be available a la carte.\n\nHalf Price for Kids 12 and under (you become an adult at 13!).\n\nDinner will be plated Family Style and you may be seated communally.\n\nPlease let us know in advance if you'd like to be seated with another party.\n\n \n\n20% Gratuity for food will be added to your bill on the night of the dinner.\n\n \n\nQuestions? Call the Catering & Events Dept at 617-958-3354 ext. 2
X-ALT-DESC;FMTTYPE=text/html:<span style="font-weight: 700\; padding-top: 0px\; color: rgb(57\, 54\, 79)\; font-family: &quot\;Neue Plak&quot\;\, -apple-system\, BlinkMacSystemFont\, Roboto\, &quot\;Helvetica Neue&quot\;\, Helvetica\, Tahoma\, Arial\, sans-serif\; font-size: 14.9333px\; letter-spacing: 0.5px\; background-color: rgb(255\, 255\, 255)\;">Welcome the New Year in style with us! Come join us for a family style dinner at the deli.</span><br />\n&nbsp\;\n<p style="margin: 0px\; padding: 0px\; color: rgb(111\, 114\, 135)\; font-size: 16px\; line-height: 1.5rem\; font-family: &quot\;Neue Plak&quot\;\, -apple-system\, BlinkMacSystemFont\, Roboto\, &quot\;Helvetica Neue&quot\;\, Helvetica\, Tahoma\, Arial\, sans-serif\; letter-spacing: 0.5px\; background-color: rgb(255\, 255\, 255)\;">A very special Dinner service in to ring in the New Year!</p>\n\n<p style="margin: 0px\; padding: 10px 0px 0px\; color: rgb(111\, 114\, 135)\; font-size: 16px\; line-height: 1.5rem\; font-family: &quot\;Neue Plak&quot\;\, -apple-system\, BlinkMacSystemFont\, Roboto\, &quot\;Helvetica Neue&quot\;\, Helvetica\, Tahoma\, Arial\, sans-serif\; letter-spacing: 0.5px\; background-color: rgb(255\, 255\, 255)\;">1 seating at 6:30pm</p>\n\n<p style="margin: 0px\; padding: 10px 0px 0px\; color: rgb(111\, 114\, 135)\; font-size: 16px\; line-height: 1.5rem\; font-family: &quot\;Neue Plak&quot\;\, -apple-system\, BlinkMacSystemFont\, Roboto\, &quot\;Helvetica Neue&quot\;\, Helvetica\, Tahoma\, Arial\, sans-serif\; letter-spacing: 0.5px\; background-color: rgb(255\, 255\, 255)\;">Ticket includes a 4 course meal.</p>\n\n<ul style="margin: 0px\; padding: 10px 0px 0px 2em\; list-style-position: initial\; list-style-image: initial\; color: rgb(111\, 114\, 135)\; font-size: 16px\; line-height: 1.5rem\; font-family: &quot\;Neue Plak&quot\;\, -apple-system\, BlinkMacSystemFont\, Roboto\, &quot\;Helvetica Neue&quot\;\, Helvetica\, Tahoma\, Arial\, sans-serif\; letter-spacing: 0.5px\; background-color: rgb(255\, 255\, 255)\;">\n	<li style="margin: 0px\; padding: 0px\;">Matzah Ball Soup</li>\n	<li style="margin: 0px\; padding: 5px 0px 0px\;">Mixed Green Salad w/ Manischevitz vinaigrette</li>\n	<li style="margin: 0px\; padding: 5px 0px 0px\;">Choice of Chicken or Brisket&nbsp\;<span style="font-weight: 700\; padding-top: 0px\;">for your party</span>&nbsp\;served with Green Beans and Noodle Kugel (vegetarian entree available upon request)</li>\n	<li style="margin: 0px\; padding: 5px 0px 0px\;">Honey Cake</li>\n</ul>\n\n<p style="margin: 0px\; padding: 10px 0px 0px\; color: rgb(111\, 114\, 135)\; font-size: 16px\; line-height: 1.5rem\; font-family: &quot\;Neue Plak&quot\;\, -apple-system\, BlinkMacSystemFont\, Roboto\, &quot\;Helvetica Neue&quot\;\, Helvetica\, Tahoma\, Arial\, sans-serif\; letter-spacing: 0.5px\; background-color: rgb(255\, 255\, 255)\;">&nbsp\;</p>\n\n<p style="margin: 0px\; padding: 10px 0px 0px\; color: rgb(111\, 114\, 135)\; font-size: 16px\; line-height: 1.5rem\; font-family: &quot\;Neue Plak&quot\;\, -apple-system\, BlinkMacSystemFont\, Roboto\, &quot\;Helvetica Neue&quot\;\, Helvetica\, Tahoma\, Arial\, sans-serif\; letter-spacing: 0.5px\; background-color: rgb(255\, 255\, 255)\;">Please inform us of any allergies or dietary restrictions. Accommodations may be made with advanced notice.</p>\n\n<p style="margin: 0px\; padding: 10px 0px 0px\; color: rgb(111\, 114\, 135)\; font-size: 16px\; line-height: 1.5rem\; font-family: &quot\;Neue Plak&quot\;\, -apple-system\, BlinkMacSystemFont\, Roboto\, &quot\;Helvetica Neue&quot\;\, Helvetica\, Tahoma\, Arial\, sans-serif\; letter-spacing: 0.5px\; background-color: rgb(255\, 255\, 255)\;">Specialty Cocktails\, Beer &amp\; Wine (more than just Manischevitz!) will be available a la carte.</p>\n\n<p style="margin: 0px\; padding: 10px 0px 0px\; color: rgb(111\, 114\, 135)\; font-size: 16px\; line-height: 1.5rem\; font-family: &quot\;Neue Plak&quot\;\, -apple-system\, BlinkMacSystemFont\, Roboto\, &quot\;Helvetica Neue&quot\;\, Helvetica\, Tahoma\, Arial\, sans-serif\; letter-spacing: 0.5px\; background-color: rgb(255\, 255\, 255)\;">Half Price for Kids 12 and under (you become an adult at 13!).</p>\n\n<p style="margin: 0px\; padding: 10px 0px 0px\; color: rgb(111\, 114\, 135)\; font-size: 16px\; line-height: 1.5rem\; font-family: &quot\;Neue Plak&quot\;\, -apple-system\, BlinkMacSystemFont\, Roboto\, &quot\;Helvetica Neue&quot\;\, Helvetica\, Tahoma\, Arial\, sans-serif\; letter-spacing: 0.5px\; background-color: rgb(255\, 255\, 255)\;">Dinner will be plated Family Style and you may be seated communally.</p>\n\n<p style="margin: 0px\; padding: 10px 0px 0px\; color: rgb(111\, 114\, 135)\; font-size: 16px\; line-height: 1.5rem\; font-family: &quot\;Neue Plak&quot\;\, -apple-system\, BlinkMacSystemFont\, Roboto\, &quot\;Helvetica Neue&quot\;\, Helvetica\, Tahoma\, Arial\, sans-serif\; letter-spacing: 0.5px\; background-color: rgb(255\, 255\, 255)\;">Please let us know in advance if you&#39\;d like to be seated with another party.</p>\n\n<p style="margin: 0px\; padding: 10px 0px 0px\; color: rgb(111\, 114\, 135)\; font-size: 16px\; line-height: 1.5rem\; font-family: &quot\;Neue Plak&quot\;\, -apple-system\, BlinkMacSystemFont\, Roboto\, &quot\;Helvetica Neue&quot\;\, Helvetica\, Tahoma\, Arial\, sans-serif\; letter-spacing: 0.5px\; background-color: rgb(255\, 255\, 255)\;">&nbsp\;</p>\n\n<p style="margin: 0px\; padding: 10px 0px 0px\; color: rgb(111\, 114\, 135)\; font-size: 16px\; line-height: 1.5rem\; font-family: &quot\;Neue Plak&quot\;\, -apple-system\, BlinkMacSystemFont\, Roboto\, &quot\;Helvetica Neue&quot\;\, Helvetica\, Tahoma\, Arial\, sans-serif\; letter-spacing: 0.5px\; background-color: rgb(255\, 255\, 255)\;">20% Gratuity for food will be added to your bill on the night of the dinner.</p>\n\n<p style="margin: 0px\; padding: 10px 0px 0px\; color: rgb(111\, 114\, 135)\; font-size: 16px\; line-height: 1.5rem\; font-family: &quot\;Neue Plak&quot\;\, -apple-system\, BlinkMacSystemFont\, Roboto\, &quot\;Helvetica Neue&quot\;\, Helvetica\, Tahoma\, Arial\, sans-serif\; letter-spacing: 0.5px\; background-color: rgb(255\, 255\, 255)\;">&nbsp\;</p>\n\n<p style="margin: 0px\; padding: 10px 0px 0px\; color: rgb(111\, 114\, 135)\; font-size: 16px\; line-height: 1.5rem\; font-family: &quot\;Neue Plak&quot\;\, -apple-system\, BlinkMacSystemFont\, Roboto\, &quot\;Helvetica Neue&quot\;\, Helvetica\, Tahoma\, Arial\, sans-serif\; letter-spacing: 0.5px\; background-color: rgb(255\, 255\, 255)\;">Questions? Call the Catering &amp\; Events Dept at 617-958-3354 ext. 2</p>\n
LOCATION:Mamaleh's Delicatessen 15 Hampshire Street
UID:e.2584.4616
SEQUENCE:3
DTSTAMP:20260424T125918Z
URL:https://business.cambridgechamber.org/events/details/erev-rosh-hashanah-dinner-4616
END:VEVENT

END:VCALENDAR
