BEGIN:VCALENDAR
VERSION:2.0
PRODID:-//ChamberMaster//Event Calendar 2.0//EN
METHOD:PUBLISH
X-PUBLISHED-TTL:P3D
REFRESH-INTERVAL:P3D
CALSCALE:GREGORIAN
BEGIN:VEVENT
DTSTART:20190427T210000Z
DTEND:20190428T000000Z
X-MICROSOFT-CDO-ALLDAYEVENT:FALSE
SUMMARY:Empty Bowls: A Benefit for Food For Free
DESCRIPTION:Help Food For Free fill empty bowls all year round by joining us for our annual Empty Bowls benefit dinner. Food For Free is a Cambridge-based nonprofit organization that improves access to healthy food within the greater Boston community. Our Empty Bowls benefit dinner will feature delicious soups from local restaurants as well as beautiful handmade pottery made by Mudlfat artisans. Tickets at foodforfree.org.
X-ALT-DESC;FMTTYPE=text/html:Help Food For Free fill empty bowls all year round by joining us for our annual Empty Bowls benefit dinner. Food For Free is a Cambridge-based nonprofit organization that improves access to healthy food within the greater Boston community. Our Empty Bowls benefit dinner will feature delicious soups from local restaurants as well as beautiful handmade pottery made by Mudlfat artisans. Tickets at foodforfree.org.
LOCATION:Mudflat Pottery School\, 81 Broadway\, Somerville\, MA 02145
UID:e.2584.3856
SEQUENCE:3
DTSTAMP:20260424T214503Z
URL:https://business.cambridgechamber.org/events/details/empty-bowls-a-benefit-for-food-for-free-3856
END:VEVENT

END:VCALENDAR
