BEGIN:VCALENDAR
VERSION:2.0
PRODID:-//ChamberMaster//Event Calendar 2.0//EN
METHOD:PUBLISH
X-PUBLISHED-TTL:P3D
REFRESH-INTERVAL:P3D
CALSCALE:GREGORIAN
BEGIN:VEVENT
DTSTART:20201112T170000Z
DTEND:20201112T180000Z
X-MICROSOFT-CDO-ALLDAYEVENT:FALSE
SUMMARY:Elementary School Virtual Open House
DESCRIPTION:Join our Elementary School Virtual Open House (TPS-Grade 5) at 12:00pm EST.\n\nRegister here.
X-ALT-DESC;FMTTYPE=text/html:<p>Join our&nbsp\;Elementary School Virtual Open House (TPS-Grade 5) at 12:00pm EST.</p>\n\n<p><a href="https://us02web.zoom.us/webinar/register/WN_G4uq_uIOTP-BQUV1vXcEhw">Register here</a>.</p>\n
LOCATION:Zoom Webinar
UID:e.2584.5417
SEQUENCE:3
DTSTAMP:20260423T143653Z
URL:https://business.cambridgechamber.org/events/details/elementary-school-virtual-open-house-11-12-2020-5417
END:VEVENT

END:VCALENDAR
