BEGIN:VCALENDAR
VERSION:2.0
PRODID:-//ChamberMaster//Event Calendar 2.0//EN
METHOD:PUBLISH
X-PUBLISHED-TTL:P3D
REFRESH-INTERVAL:P3D
CALSCALE:GREGORIAN
BEGIN:VEVENT
DTSTART:20210122T000000Z
DTEND:20210122T010000Z
X-MICROSOFT-CDO-ALLDAYEVENT:FALSE
SUMMARY:International School of Boston - Elementary School Virtual Open House
DESCRIPTION:Join our Elementary School Virtual Open House (Age 2 - Grade 5) at 7:00pm EST.\n\n\n\nYou will meet our Head of School\, Director of Admissions\, Director of Elementary School\, faculty as well as some parents and students.\n\n\n\nRegister here.
X-ALT-DESC;FMTTYPE=text/html:<p><span style="font-size:12px">Join our&nbsp\;Elementary School Virtual Open House (Age 2 - Grade 5) at 7:00pm EST.<br />\n<br />\n<span style="background-color:transparent\; font-family:arial">You will meet our Head of School\, Director of Admissions\, Director of Elementary School\, faculty as well as some parents and students.</span><br />\n<br />\n<a href="https://www.isbos.org/admissions/open-house">Register here</a>.</span></p>\n
LOCATION:Zoom Webinar
UID:e.2584.5416
SEQUENCE:3
DTSTAMP:20260423T113436Z
URL:https://business.cambridgechamber.org/events/details/elementary-school-virtual-open-house-01-21-2021-5416
END:VEVENT

END:VCALENDAR
