BEGIN:VCALENDAR
VERSION:2.0
PRODID:-//ChamberMaster//Event Calendar 2.0//EN
METHOD:PUBLISH
X-PUBLISHED-TTL:P3D
REFRESH-INTERVAL:P3D
CALSCALE:GREGORIAN
BEGIN:VEVENT
DTSTART:20200307T003000Z
DTEND:20200307T014500Z
X-MICROSOFT-CDO-ALLDAYEVENT:FALSE
SUMMARY:Eguie Castrillo: Tribute to Tito Puente
DESCRIPTION:Grammy Award winner Eguie Castrillo (Arturo Sandoval's Hot House) is one of the most renown percussionists in the world. With over 30 years of experience\, Eguie has shared the stage with world-famous musicians such as Tito Puente\, Arturo Sandoval\, Paquito D'Rivera\, Jennifer Lopez\, and Steve Winwood\, among many others. Eguie has also lit up venues as an electrifying artist and show man\, playing around the world including at the prestigious Carnegie Hall in New York City. Additionally\, as a prominent percussion professor at the Berklee College of Music since 1999\, Eguie leads workshops and clinics on Latin and Afro-Caribbean percussion at college and universities across the USA.
X-ALT-DESC;FMTTYPE=text/html:<span style="font-family:museo slab\,sans-serif\; font-size:13px">Grammy Award winner Eguie Castrillo (Arturo Sandoval&#39\;s Hot House) is one of the most renown percussionists in the world. With over 30 years of experience\, Eguie has shared the stage with world-famous musicians such as Tito Puente\, Arturo Sandoval\, Paquito D&#39\;Rivera\, Jennifer Lopez\, and Steve Winwood\, among many others. Eguie has also lit up venues as an electrifying artist and show man\, playing around the world including at the prestigious Carnegie Hall in New York City. Additionally\, as a prominent percussion professor at the Berklee College of Music since 1999\, Eguie leads workshops and clinics on Latin and Afro-Caribbean percussion at college and universities across the USA.</span>
LOCATION:The Regattabar at The Charles Hotel
UID:e.2584.4722
SEQUENCE:3
DTSTAMP:20260424T033723Z
URL:https://business.cambridgechamber.org/events/details/eguie-castrillo-tribute-to-tito-puente-4722
END:VEVENT

END:VCALENDAR
