BEGIN:VCALENDAR
VERSION:2.0
PRODID:-//ChamberMaster//Event Calendar 2.0//EN
METHOD:PUBLISH
X-PUBLISHED-TTL:P3D
REFRESH-INTERVAL:P3D
CALSCALE:GREGORIAN
BEGIN:VEVENT
DTSTART:20190421T140000Z
DTEND:20190421T190000Z
X-MICROSOFT-CDO-ALLDAYEVENT:FALSE
SUMMARY:Easter Brunch at Glass House
DESCRIPTION:Get egg-cited for our Easter Brunch!\n\nWhat better way to celebrate Easter than with your peeps at Glass House in Kendall Square? Join us Sunday\, April 21st from 10am - 3pm for a delicious brunch!\n\nThe Easter bunny will be hopping around for photo opportunities\, plus there will be Easter Egg Hunts for the little chicks. The hunts will take place at 11am\, 12pm\, 1pm & 2pm... don't forget to bring your own baskets! Please note\, you must have a reservation to participate in the 11am\, 12pm & 1pm hunts\, but the 2pm hunt will be open to the public.\n\nTo make a reservation\, please call (617) 945-9450 or go to glasshousecambridge.com.
X-ALT-DESC;FMTTYPE=text/html:<h2>Get egg-cited for our Easter Brunch!</h2>\n\n<p>What better way to celebrate Easter than with your peeps at&nbsp\;Glass House&nbsp\;in Kendall Square? Join us Sunday\, April 21st from 10am - 3pm for a delicious&nbsp\;brunch!</p>\n\n<p>The Easter bunny will be hopping around for photo opportunities\, plus there will be Easter Egg Hunts for the little chicks.&nbsp\;The hunts will take place at 11am\, 12pm\, 1pm &amp\; 2pm... don&#39\;t forget to bring your own baskets! Please note\, you must have a reservation to participate in the 11am\, 12pm &amp\; 1pm hunts\, but the 2pm hunt will be open to the public.</p>\n\n<p>To make a reservation\, please call (617) 945-9450 or go to glasshousecambridge.com.</p>\n<br />\n&nbsp\;
LOCATION:Glass House 450 Kendall Street Cambridge\, MA 02142
UID:e.2584.4063
SEQUENCE:3
DTSTAMP:20260424T214322Z
URL:https://business.cambridgechamber.org/events/details/easter-brunch-at-glass-house-4063
END:VEVENT

END:VCALENDAR
