BEGIN:VCALENDAR
VERSION:2.0
PRODID:-//ChamberMaster//Event Calendar 2.0//EN
METHOD:PUBLISH
X-PUBLISHED-TTL:P3D
REFRESH-INTERVAL:P3D
CALSCALE:GREGORIAN
BEGIN:VEVENT
DTSTART:20190404T220000Z
DTEND:20190405T003000Z
X-MICROSOFT-CDO-ALLDAYEVENT:FALSE
SUMMARY:Dig It! 2019
DESCRIPTION:CitySprouts introduces school gardens as a core element of children's public education. We partner with public schools to ensure that hands-on learning\, environmental stewardship and the experience of growing and eating healthy food become part of every child's life.  \n\nJoin us for an evening of fun\, food\, and silent auction to celebrate garden-based learning in\n\nBoston and Cambridge Public Schools. Help us grow the future!
X-ALT-DESC;FMTTYPE=text/html:<div style="text-align: center\;"><span style="font-size:20px\;"><span style="color: rgb(51\, 51\, 51)\; font-family: tahoma\, geneva\, sans-serif\; text-align: center\; background-color: rgb(255\, 255\, 255)\;">CitySprouts introduces school gardens as a core element of children&rsquo\;s public education. We partner with public schools to ensure that hands-on learning\, environmental stewardship and the experience of growing and eating healthy food become part of every child&rsquo\;s life. &nbsp\;</span><br style="box-sizing: border-box\; color: rgb(51\, 51\, 51)\; font-family: tahoma\, geneva\, sans-serif\; font-size: 16px\; text-align: center\; background-color: rgb(255\, 255\, 255)\;" />\n<span style="color: rgb(51\, 51\, 51)\; font-family: tahoma\, geneva\, sans-serif\; text-align: center\; background-color: rgb(255\, 255\, 255)\;">Join us for an evening of fun\, food\, and silent auction to celebrate garden-based learning in</span><br style="box-sizing: border-box\; color: rgb(51\, 51\, 51)\; font-family: tahoma\, geneva\, sans-serif\; font-size: 16px\; text-align: center\; background-color: rgb(255\, 255\, 255)\;" />\n<span style="color: rgb(51\, 51\, 51)\; font-family: tahoma\, geneva\, sans-serif\; text-align: center\; background-color: rgb(255\, 255\, 255)\;">Boston and Cambridge Public Schools. Help us grow the future!</span></span></div>\n
LOCATION:Takeda Atrium 650 East Kendall Street Cambridge\, MA
UID:e.2584.3852
SEQUENCE:3
DTSTAMP:20260424T214129Z
URL:https://business.cambridgechamber.org/events/details/dig-it-2019-3852
END:VEVENT

END:VCALENDAR
