BEGIN:VCALENDAR
VERSION:2.0
PRODID:-//ChamberMaster//Event Calendar 2.0//EN
METHOD:PUBLISH
X-PUBLISHED-TTL:P3D
REFRESH-INTERVAL:P3D
CALSCALE:GREGORIAN
BEGIN:VEVENT
DTSTART:20210413T220000Z
DTEND:20210413T233000Z
X-MICROSOFT-CDO-ALLDAYEVENT:FALSE
SUMMARY:Developing a Black Feminist Praxis Within Organizations
DESCRIPTION:Join YWCA Cambridge as we kick off the first Feminist Roundtable Series of 2021. We are excited to welcome Lisa Owens\, Executive Director of The Hyams Foundation and Denise Matthews-Turner\, Interim Executive Director of City Life/Vida Urbana for a conversation on "Developing a Black Feminist Praxis for an Organization".\n\n\n\nREGISTER: http://bit.ly/BlackFeministPraxis\n\nAbout Lisa Owens:\n\nLisa Owens joined the Hyams Foundation as Executive Director in 2021 and brings more than 25 years of experience in building local grassroots organizations and national movements for social\, racial\, and economic justice. She previously served as the Executive Director of City Life/Vida Urbana\, a prominent housing justice group that is nationally recognized for organizing communities against displacement and building collective power for systemic change. Prior to that\, she was the Executive Director of mytown\, a nationally recognized youth development organization.\n\nLisa brings to Hyams extensive experience as an educator\, a trainer and a coach of community-based nonprofit leaders and organizations. For the past 15 years\, she's taught courses on community organizing and nonprofit management at Boston University and Springfield College. Over the past 10 years\, she has served on the boards of many Boston-based and national organizations committed to fighting for social\, racial\, and economic justice. Lisa is a proud Bostonian who grew up in Roxbury. She attended Boston Public Schools and holds a Master of Science degree in Organizational Leadership and Management from Springfield College.\n\n \n\nAbout Denise Matthews-Turner:\n\nDenise Matthews-Turner is the Interim Executive Director of City Life/Vida Urbana (CLVU)\, becoming Interim ED in January of this year. Founded in 1973\, City Life works for racial\, social\, and economic justice and gender equity by fighting displacement and building community power. Before becoming Interim ED\, Denise was City Life's Director of Administration. Part of her work the past 2 years has been supporting the leadership development of Black women leaders in our movement through co-facilitating the Black Feminist Praxis Circle. Denise is a fabric artist and leads CLVU's Arts and Culture Committee. A native of New Jersey\, Denise is a graduate of Boston University.
X-ALT-DESC;FMTTYPE=text/html:<div>Join YWCA Cambridge as we kick off the first Feminist Roundtable Series of 2021. We are excited to welcome Lisa Owens\, Executive Director of The Hyams Foundation and Denise Matthews-Turner\, Interim Executive Director of City Life/Vida Urbana for a conversation on &quot\;Developing a Black Feminist Praxis for an Organization&quot\;.<br />\n<br />\nREGISTER:&nbsp\;<a class="oajrlxb2 g5ia77u1 qu0x051f esr5mh6w e9989ue4 r7d6kgcz rq0escxv nhd2j8a9 nc684nl6 p7hjln8o kvgmc6g5 cxmmr5t8 oygrvhab hcukyx3x jb3vyjys rz4wbd8a qt6c0cv9 a8nywdso i1ao9s8h esuyzwwr f1sip0of lzcic4wl py34i1dx gpro0wi8" href="https://l.facebook.com/l.php?u=https%3A%2F%2Fbit.ly%2FBlackFeministPraxis%3Ffbclid%3DIwAR0GDuXQE4w91qdWz4E_UKHcCGR1JC3dsfbyye6fl2oS_SuwwwN6vOqziMw&amp\;h=AT0cTrZcKEkVJfHKez3CutPfrCpUKTXYiViBMkDIeI_6MyqE_2WJsKlEicdCPF2lDx80g3oSRkPGq3ERwQZVoKHPk19dyo2y_z1Aop_h4BfU-WcEm2Gg8dFxXFp-AEKUAo4mBQK-78CKn_eB8A&amp\;__tn__=q&amp\;c[0]=AT06LbQjgLRR8BiX3c6CRPZvh5KfBalBNq5h4ju-084LxwSubDWaKttjmszSzUfhd8Rxtl9A64L-Z2sllAvRT91-kNeTArKXo9gqsV6Spfh0-Izhsyaa2oDfIZ-1QPbw99nZTytjkCdR6aUyBnFW_VpDUWV2DaFQJf5XOT3r1f0GZhQ" rel="nofollow noopener" style="color: var(--blue-link)\; cursor: pointer\; text-decoration-line: none\; outline: none\; list-style: none\; border-width: 0px\; border-style: initial\; border-color: initial\; padding: 0px\; margin: 0px\; touch-action: manipulation\; background-color: transparent\; text-align: inherit\; display: inline\; -webkit-tap-highlight-color: transparent\; box-sizing: border-box\; font-family: inherit\;" tabindex="0" target="_blank">http://bit.ly/BlackFeministPraxis</a></div>\n\n<div>About Lisa Owens:<br />\nLisa Owens joined the Hyams Foundation as Executive Director in 2021 and brings more than 25 years of experience in building local grassroots organizations and national movements for social\, racial\, and economic justice. She previously served as the Executive Director of City Life/Vida Urbana\, a prominent housing justice group that is nationally recognized for organizing communities against displacement and building collective power for systemic change. Prior to that\, she was the Executive Director of mytown\, a nationally recognized youth development organization.</div>\n\n<div>Lisa brings to Hyams extensive experience as an educator\, a trainer and a coach of community-based nonprofit leaders and organizations. For the past 15 years\, she&rsquo\;s taught courses on community organizing and nonprofit management at Boston University and Springfield College. Over the past 10 years\, she has served on the boards of many Boston-based and national organizations committed to fighting for social\, racial\, and economic justice. Lisa is a proud Bostonian who grew up in Roxbury. She attended Boston Public Schools and holds a Master of Science degree in Organizational Leadership and Management from Springfield College.</div>\n\n<div>&nbsp\;</div>\n\n<div>About Denise Matthews-Turner:<br />\nDenise Matthews-Turner is the Interim Executive Director of City Life/Vida Urbana (CLVU)\, becoming Interim ED in January of this year. Founded in 1973\, City Life works for racial\, social\, and economic justice and gender equity by fighting displacement and building community power. Before becoming Interim ED\, Denise was City Life&rsquo\;s Director of Administration. Part of her work the past 2 years has been supporting the leadership development of Black women leaders in our movement through co-facilitating the Black Feminist Praxis Circle. Denise is a fabric artist and leads CLVU&rsquo\;s Arts and Culture Committee. A native of New Jersey\, Denise is a graduate of Boston University.</div>\n
LOCATION:Zoom
UID:e.2584.5994
SEQUENCE:3
DTSTAMP:20260423T073358Z
URL:https://business.cambridgechamber.org/events/details/developing-a-black-feminist-praxis-within-organizations-5994
END:VEVENT

END:VCALENDAR
