BEGIN:VCALENDAR
VERSION:2.0
PRODID:-//ChamberMaster//Event Calendar 2.0//EN
METHOD:PUBLISH
X-PUBLISHED-TTL:P3D
REFRESH-INTERVAL:P3D
CALSCALE:GREGORIAN
BEGIN:VEVENT
DTSTART:20210214T000000Z
DTEND:20210214T013000Z
X-MICROSOFT-CDO-ALLDAYEVENT:FALSE
SUMMARY:Date Night: Sparkling Wine Tasting with Curbside Pickup
DESCRIPTION:Date Night: Sparkling Wine Tasting with Curbside Pickup | Online Class | Saturday | Feb. 13 | 7 - 8:30 pm | $125 | Link to Register\n\nLet's spark your night before Valentine's in this date night wine tasting session. We'll talk about methods for making sparkling wines\, regions where they are produced and when and how to best enjoy them. We'll see why having a glass of sparkling wine makes us feel special and more alive. To enhance the experience of learning and tasting sparkling wine\, this online interactive class includes the sparkling wine tasting kit with small tasting bottles to sample. Each pair will pick up the sampling kit at CCAE\, 56 Brattle Street\, Cambridge on Wednesday\, February 10 from 5-6pm. The online session will be on Zoom on Saturday\, February 13 from 7-8:30pm. The tuition includes the tasting kit for 2 people. The tuition is per pair.The registration will be closed on Monday\, February 8 at 6pm. Instructor: Dagmar Smith
X-ALT-DESC;FMTTYPE=text/html:<strong>Date Night: Sparkling Wine Tasting with Curbside Pickup</strong>&nbsp\;|&nbsp\;Online Class | Saturday | Feb. 13 | 7 - 8:30 pm | $125 |&nbsp\;<a href="https://ccae.org/classes/offering/1802/date-night-sparkling-wine-tasting-with-curbside-pickup" target="_blank">Link to Register</a><br />\nLet&rsquo\;s spark your night before Valentine&rsquo\;s in this date night wine tasting session. We&rsquo\;ll talk about methods for making sparkling wines\, regions where they are produced and when and how to best enjoy them. We&#39\;ll see why having a glass of sparkling wine makes us feel special and more alive. To enhance the experience of learning and tasting sparkling wine\, this online interactive class includes the sparkling wine tasting kit with small tasting bottles to sample. Each pair will pick up the sampling kit at CCAE\, 56 Brattle Street\, Cambridge on Wednesday\, February 10 from 5-6pm. The online session will be on Zoom on Saturday\, February 13 from 7-8:30pm. The tuition includes the tasting kit for 2 people. The tuition is per pair.The registration will be closed on Monday\, February 8 at 6pm. Instructor: Dagmar Smith
LOCATION:
UID:e.2584.5936
SEQUENCE:3
DTSTAMP:20260423T101516Z
URL:https://business.cambridgechamber.org/events/details/date-night-sparkling-wine-tasting-with-curbside-pickup-5936
END:VEVENT

END:VCALENDAR
