BEGIN:VCALENDAR
VERSION:2.0
PRODID:-//ChamberMaster//Event Calendar 2.0//EN
METHOD:PUBLISH
X-PUBLISHED-TTL:P3D
REFRESH-INTERVAL:P3D
CALSCALE:GREGORIAN
BEGIN:VEVENT
DTSTART:20200403T223000Z
DTEND:20200404T020000Z
X-MICROSOFT-CDO-ALLDAYEVENT:FALSE
SUMMARY:Dance Around the World
DESCRIPTION:Join Cambridge School Volunteers for dancing to the sounds of DJ Beshkan and an auction to benefit CSV's tutoring and mentoring programs serving children in junior kindergarten through high school in the Cambridge Public Schools.The price of your ticket includes international cuisine from Via Lago Catering and an open bar with wine and beer curated by our caterer. With the purchase of your VIP ticket\, you will enjoy a raspberry prosecco bellini served in a stemless champagne flute and topped with raspberry liqueur and a sprig of basil!\n\nGet your tickets now! Here's the link: https://www.eventbrite.com/e/dance-around-the-world-tickets-89974242381 \n\n \n\n \n\n \n\nAbout DJ Beshkan: From house parties and weddings to concerts and club events\, DJ Beshkan always packs the dance floor with people of all ages and energy that lasts till morning! With 17 years of experience mixing the best International and Top 40 beats all over the USA\, you'll be moving in ways you never knew you could. Be prepared for an International experience that will make you feel you've been "Dancing Around the World!" \n\n \n\nEvening Program \n\n6:30 7:30       Opening Reception  \n\n7:30 10:00     Dance Party   \n\n8:45                Auction\n\n \n\n \n\n \n\nFor more information\, call Meg Ramsdell\, Executive Director\, at 617-349-6794.\n\nThank you to our Champion sponsor\, Sanofi/Genzyme\, MIT\, and all of our sponsors to date. See link for a full listing of sponsors to date.
X-ALT-DESC;FMTTYPE=text/html:<p style="margin:0in\;margin-bottom:.0001pt\;line-height:19.2pt"><span style="font-size:20px\;"><span style="font-family:arial\;"><span style="color: black\; letter-spacing: 0.4pt\; background: white\;">Join Cambridge School Volunteers fo</span><span style="color: black\; letter-spacing: 0.4pt\;">r dancing to the sounds of DJ Beshkan and an auction to benefit CSV&#39\;s&nbsp\;</span><span style="color: black\;">tutoring and mentoring programs&nbsp\;<span style="letter-spacing:.4pt">serving children in junior kindergarten through high school in the Cambridge Public Schools.The price of your ticket includes international cuisine from Via Lago Catering and an open bar with wine and beer curated by our caterer. With the purchase of your VIP ticket\, you will&nbsp\;enjoy a&nbsp\;raspberry prosecco bellini served in a stemless champagne flute and topped with raspberry liqueur&nbsp\;and a sprig of basil!</span></span></span></span><span style="letter-spacing:.4pt"><o:p></o:p></span></p>\n\n<p style="margin:0in\;margin-bottom:.0001pt\;line-height:19.2pt"><span style="font-size:20px\;"><span style="font-family:arial\;"><span style="color: black\; letter-spacing: 0.4pt\;">Get your tickets now! Here&#39\;s the link:&nbsp\;</span><span style="letter-spacing: 0.4pt\;"><a href="https://www.eventbrite.com/e/dance-around-the-world-tickets-89974242381" target="_blank"><span style="letter-spacing:0pt">https://www.eventbrite.com/e/dance-around-the-world-tickets-89974242381</span></a>&nbsp\;</span></span></span><span style="letter-spacing:.4pt"><o:p></o:p></span></p>\n\n<p style="margin:0in\;margin-bottom:.0001pt\;line-height:19.2pt">&nbsp\;</p>\n\n<p style="margin:0in\;margin-bottom:.0001pt\;line-height:19.2pt">&nbsp\;</p>\n\n<p style="margin:0in\;margin-bottom:.0001pt\;line-height:19.2pt"><span style="font-family:arial\;"><span style="font-size:20px\;"><span style="letter-spacing:.4pt"><o:p>&nbsp\;</o:p></span></span></span></p>\n\n<p style="margin:0in\;margin-bottom:.0001pt\;line-height:19.2pt"><span style="font-family:arial\;"><span style="font-size:20px\;"><span style="color: black\; letter-spacing: 0.4pt\;">About DJ Beshkan: From house parties and weddings to concerts and club events\, DJ Beshkan always packs the dance floor with people of all ages and energy that lasts till morning! With 17 years of experience mixing the best International and Top 40 beats all over the USA\, you&rsquo\;ll be moving in ways you never knew you could. Be prepared for an International experience that will make you feel you&rsquo\;ve been &ldquo\;Dancing Around the World!&rdquo\;</span><span style="color:black\;\nletter-spacing:.4pt">&nbsp\;</span><span style="letter-spacing:.4pt"><o:p></o:p></span></span></span></p>\n\n<p style="margin:0in\;margin-bottom:.0001pt\;line-height:19.2pt"><span style="font-family:arial\;"><span style="font-size:20px\;"><span style="letter-spacing:.4pt">&nbsp\;</span><span style="letter-spacing:.4pt"><o:p></o:p></span></span></span></p>\n\n<p style="margin:0in\;margin-bottom:.0001pt\;line-height:19.2pt"><span style="font-family:arial\;"><span style="font-size:20px\;"><b><span style="color: black\; letter-spacing: 0.4pt\;">Evening Program&nbsp\;</span></b><span style="letter-spacing:.4pt"><o:p></o:p></span></span></span></p>\n\n<p style="margin:0in\;margin-bottom:.0001pt\;line-height:19.2pt"><span style="font-family:arial\;"><span style="font-size:20px\;"><em><b><span style="color: black\; letter-spacing: 0.4pt\;">6:30&ndash\;7:30</span></b></em><span style="color: black\; letter-spacing: 0.4pt\;">&nbsp\; &nbsp\; &nbsp\; &nbsp\;Opening Reception&nbsp\;&nbsp\;</span><span style="letter-spacing:\n.4pt"><o:p></o:p></span></span></span></p>\n\n<p style="margin:0in\;margin-bottom:.0001pt\;line-height:19.2pt"><span style="font-family:arial\;"><span style="font-size:20px\;"><em><b><span style="color: black\; letter-spacing: 0.4pt\;">7:30&ndash\;10:00</span></b></em><span style="color: black\; letter-spacing: 0.4pt\;">&nbsp\; &nbsp\; &nbsp\;Dance Party&nbsp\;&nbsp\;&nbsp\;</span><span style="letter-spacing:\n.4pt"><o:p></o:p></span></span></span></p>\n\n<p style="margin:0in\;margin-bottom:.0001pt\;line-height:19.2pt"><span style="font-family:arial\;"><span style="font-size:20px\;"><em><b><span style="color: black\; letter-spacing: 0.4pt\;">8:45</span></b></em><span style="color: black\; letter-spacing: 0.4pt\;">&nbsp\; &nbsp\; &nbsp\; &nbsp\; &nbsp\; &nbsp\; &nbsp\; &nbsp\; Auction</span><span style="letter-spacing:.4pt"><o:p></o:p></span></span></span></p>\n\n<p style="margin:0in\;margin-bottom:.0001pt\;line-height:19.2pt">&nbsp\;</p>\n\n<p style="margin:0in\;margin-bottom:.0001pt\;line-height:19.2pt">&nbsp\;</p>\n\n<p style="margin:0in\;margin-bottom:.0001pt\;line-height:19.2pt"><span style="font-family:arial\;"><span style="font-size:20px\;"><span style="letter-spacing:.4pt"><o:p>&nbsp\;</o:p></span></span></span></p>\n\n<p style="margin:0in\;margin-bottom:.0001pt\;line-height:19.2pt"><span style="font-family:arial\;"><span style="font-size:20px\;"><b><span style="color: black\; letter-spacing: 0.4pt\;">For more information\, call Meg Ramsdell\, Executive Director\, at 617-349-6794.</span></b><span style="letter-spacing:.4pt"><o:p></o:p></span></span></span></p>\n\n<p style="margin:0in\;margin-bottom:.0001pt\;line-height:19.2pt"><span style="font-family:arial\;"><span style="font-size:20px\;"><b><span style="color: black\; letter-spacing: 0.4pt\;">Thank you to our Champion sponsor\, Sanofi/Genzyme\, MIT\, and all of our sponsors to date. See link for a full listing of sponsors to date.&nbsp\;</span></b></span></span></p>\n\n<p style="margin:0in\;margin-bottom:.0001pt\;line-height:19.2pt">&nbsp\;</p>\n\n<p style="margin:0in\;margin-bottom:.0001pt\;line-height:19.2pt">&nbsp\;</p>\n\n<p style="margin:0in\;margin-bottom:.0001pt\;line-height:19.2pt">&nbsp\;</p>\n\n<p style="margin:0in\;margin-bottom:.0001pt\;line-height:19.2pt"><span style="letter-spacing:.4pt"><o:p></o:p></span></p>\n
LOCATION:Lunder Arts Center\, Lesley University
UID:e.2584.5374
SEQUENCE:3
DTSTAMP:20260424T014419Z
URL:https://business.cambridgechamber.org/events/details/dance-around-the-world-5374
END:VEVENT

END:VCALENDAR
